BEGIN:VCALENDAR
VERSION:2.0
PRODID:-//91.233.84.230//NONSGML kigkonsult.se iCalcreator 2.20//
CALSCALE:GREGORIAN
METHOD:PUBLISH
X-WR-TIMEZONE:UTC
BEGIN:VEVENT
UID:event1182@Nationalparkgemeinde Vöhl am Edersee
DTSTAMP:20260421T163054Z
CATEGORIES:Feuerwehren
DESCRIPTION:Weihnachtsfeier FFW\nKategorie: Feuerwehren\nICS-Link: https://
 xn--vhl-sna.de/index.php?option=com_jem&view=event&id=1182:weihnachtsfeier
 -ffw\n
DTSTART:20261212T180000Z
DTEND:20261212T180000Z
LOCATION:Gaststätte zur Linde (Muh)\,Enser Straße 19\,34516 Vöhl - Dorfitte
 r\,Germany
SUMMARY:Weihnachtsfeier FFW
URL:https://xn--vhl-sna.de/index.php?option=com_jem&view=event&id=1182:weih
 nachtsfeier-ffw
END:VEVENT
END:VCALENDAR