BEGIN:VCALENDAR
VERSION:2.0
PRODID:-//91.233.84.230//NONSGML kigkonsult.se iCalcreator 2.20//
CALSCALE:GREGORIAN
METHOD:PUBLISH
X-WR-TIMEZONE:UTC
BEGIN:VEVENT
UID:event1094@Nationalparkgemeinde Vöhl am Edersee
DTSTAMP:20260421T135721Z
CATEGORIES:Feste in den Ortsteilen
DESCRIPTION:Spritztour mit Dorfabend\nKategorie: Feste in den Ortsteilen\nI
 CS-Link: https://xn--vhl-sna.de/index.php?option=com_jem&view=event&id=109
 4:spritztour-mit-dorfabend\n
DTSTART;VALUE=DATE:20260829
DTEND;VALUE=DATE:20260830
LOCATION:Dorfplatz Dorfitter\, Kirchstraße 5\,34516 Dorfitter\,Germany
SUMMARY:Spritztour mit Dorfabend
URL:https://xn--vhl-sna.de/index.php?option=com_jem&view=event&id=1094:spri
 tztour-mit-dorfabend
END:VEVENT
BEGIN:VEVENT
UID:event1300@Nationalparkgemeinde Vöhl am Edersee
DTSTAMP:20260421T135721Z
CATEGORIES:Feste in den Ortsteilen
DESCRIPTION:Vatertagsveranstaltung\nKategorie: Feste in den Ortsteilen\nICS
 -Link: https://xn--vhl-sna.de/index.php?option=com_jem&view=event&id=1300:
 vatertagsveranstaltung\n
DTSTART;VALUE=DATE:20260514
DTEND;VALUE=DATE:20260515
LOCATION:Dorfplatz Dorfitter\, Kirchstraße 5\,34516 Dorfitter\,Germany
SUMMARY:Vatertagsveranstaltung
URL:https://xn--vhl-sna.de/index.php?option=com_jem&view=event&id=1300:vate
 rtagsveranstaltung
END:VEVENT
BEGIN:VEVENT
UID:event1146@Nationalparkgemeinde Vöhl am Edersee
DTSTAMP:20260421T135721Z
CATEGORIES:Kultur
DESCRIPTION:Weihnachtsbaum aufstellen\nKategorie: Kultur\nICS-Link: https:/
 /xn--vhl-sna.de/index.php?option=com_jem&view=event&id=1146:weihnachtsbaum
 -aufstellen\n
DTSTART:20261121T093000Z
DTEND:20261121T093000Z
LOCATION:Dorfplatz Dorfitter\, Kirchstraße 5\,34516 Dorfitter\,Germany
SUMMARY:Weihnachtsbaum aufstellen
URL:https://xn--vhl-sna.de/index.php?option=com_jem&view=event&id=1146:weih
 nachtsbaum-aufstellen
END:VEVENT
BEGIN:VEVENT
UID:event1289@Nationalparkgemeinde Vöhl am Edersee
DTSTAMP:20260421T135721Z
CATEGORIES:Feste in den Ortsteilen
DESCRIPTION:Maisingen\nKategorie: Feste in den Ortsteilen\nICS-Link: https:
 //xn--vhl-sna.de/index.php?option=com_jem&view=event&id=1289:maisingen\n
DTSTART:20260501T113000Z
DTEND:20260501T113000Z
LOCATION:Dorfplatz Dorfitter\, Kirchstraße 5\,34516 Dorfitter\,Germany
SUMMARY:Maisingen
URL:https://xn--vhl-sna.de/index.php?option=com_jem&view=event&id=1289:mais
 ingen
END:VEVENT
END:VCALENDAR