BEGIN:VCALENDAR
VERSION:2.0
PRODID:-//91.233.84.230//NONSGML kigkonsult.se iCalcreator 2.20//
CALSCALE:GREGORIAN
METHOD:PUBLISH
X-WR-TIMEZONE:UTC
BEGIN:VEVENT
UID:event1115@Nationalparkgemeinde Vöhl am Edersee
DTSTAMP:20260421T134645Z
CATEGORIES:Feste in den Ortsteilen
DESCRIPTION:Sommerfest \nKategorie: Feste in den Ortsteilen\nICS-Link: http
 s://xn--vhl-sna.de/index.php?option=com_jem&view=event&id=1115:sommerfest
 \n
DTSTART:20260905T190000Z
DTEND:20260905T190000Z
LOCATION:Grillhütte und Freizeitanlage Kirchlotheim\,34516 Vöhl-Kirchlothei
 m\,Germany
SUMMARY:Sommerfest 
URL:https://xn--vhl-sna.de/index.php?option=com_jem&view=event&id=1115:somm
 erfest
END:VEVENT
END:VCALENDAR