BEGIN:VCALENDAR
VERSION:2.0
PRODID:-//91.233.84.230//NONSGML kigkonsult.se iCalcreator 2.20//
CALSCALE:GREGORIAN
METHOD:PUBLISH
X-WR-TIMEZONE:UTC
BEGIN:VEVENT
UID:event1308@Nationalparkgemeinde Vöhl am Edersee
DTSTAMP:20260421T122457Z
CATEGORIES:Sonstige
DESCRIPTION:Bugbrooke-Fahrt TSV Vöhl Jugend\nKategorie: Sonstige\nICS-Link:
  https://xn--vhl-sna.de/index.php?option=com_jem&view=event&id=1308:bugbro
 oke-fahrt-tsv-voehl-jugend\n
DTSTART;VALUE=DATE:20260524
DTEND;VALUE=DATE:20260531
LOCATION:Sportplatz Vöhl\,Schlossstraße\,34516 Vöhl\,Germany
SUMMARY:Bugbrooke-Fahrt TSV Vöhl Jugend
URL:https://xn--vhl-sna.de/index.php?option=com_jem&view=event&id=1308:bugb
 rooke-fahrt-tsv-voehl-jugend
END:VEVENT
BEGIN:VEVENT
UID:event1227@Nationalparkgemeinde Vöhl am Edersee
DTSTAMP:20260421T122457Z
CATEGORIES:Sport\, Fitness und Freizeit
DESCRIPTION:Sportfest TSV Vöhl\nKategorie: Sport\, Fitness und Freizeit\nIC
 S-Link: https://xn--vhl-sna.de/index.php?option=com_jem&view=event&id=1227
 :sportfest-tsv-voehl\n
DTSTART;VALUE=DATE:20260620
DTEND;VALUE=DATE:20260622
LOCATION:Sportplatz Vöhl\,Schlossstraße\,34516 Vöhl\,Germany
SUMMARY:Sportfest TSV Vöhl
URL:https://xn--vhl-sna.de/index.php?option=com_jem&view=event&id=1227:spor
 tfest-tsv-voehl
END:VEVENT
BEGIN:VEVENT
UID:event1287@Nationalparkgemeinde Vöhl am Edersee
DTSTAMP:20260421T122457Z
CATEGORIES:Sport\, Fitness und Freizeit
DESCRIPTION:Vöhler Abendlauf\nKategorie: Sport\, Fitness und Freizeit\nICS-
 Link: https://xn--vhl-sna.de/index.php?option=com_jem&view=event&id=1287:v
 oehler-abendlauf\n
DTSTART;VALUE=DATE:20260430
DTEND;VALUE=DATE:20260501
LOCATION:Sportplatz Vöhl\,Schlossstraße\,34516 Vöhl\,Germany
SUMMARY:Vöhler Abendlauf
URL:https://xn--vhl-sna.de/index.php?option=com_jem&view=event&id=1287:voeh
 ler-abendlauf
END:VEVENT
BEGIN:VEVENT
UID:event1294@Nationalparkgemeinde Vöhl am Edersee
DTSTAMP:20260421T122457Z
CATEGORIES:Sport\, Fitness und Freizeit
DESCRIPTION:Fußballspiel A-Liga TSV Vöhl\nKategorie: Sport\, Fitness und Fr
 eizeit\nICS-Link: https://xn--vhl-sna.de/index.php?option=com_jem&view=eve
 nt&id=1294:fussballspiel-a-liga-tsv-voehl\n
DTSTART:20260503T150000Z
DTEND:20260503T150000Z
LOCATION:Sportplatz Vöhl\,Schlossstraße\,34516 Vöhl\,Germany
SUMMARY:Fußballspiel A-Liga TSV Vöhl
URL:https://xn--vhl-sna.de/index.php?option=com_jem&view=event&id=1294:fuss
 ballspiel-a-liga-tsv-voehl
END:VEVENT
BEGIN:VEVENT
UID:event1304@Nationalparkgemeinde Vöhl am Edersee
DTSTAMP:20260421T122457Z
CATEGORIES:Sport\, Fitness und Freizeit
DESCRIPTION:Fußballspiel A-Liga TSV Vöhl\nKategorie: Sport\, Fitness und Fr
 eizeit\nICS-Link: https://xn--vhl-sna.de/index.php?option=com_jem&view=eve
 nt&id=1304:fussballspiel-a-liga-tsv-voehl\n
DTSTART:20260517T150000Z
DTEND:20260517T150000Z
LOCATION:Sportplatz Vöhl\,Schlossstraße\,34516 Vöhl\,Germany
SUMMARY:Fußballspiel A-Liga TSV Vöhl
URL:https://xn--vhl-sna.de/index.php?option=com_jem&view=event&id=1304:fuss
 ballspiel-a-liga-tsv-voehl
END:VEVENT
BEGIN:VEVENT
UID:event1281@Nationalparkgemeinde Vöhl am Edersee
DTSTAMP:20260421T122457Z
CATEGORIES:Sport\, Fitness und Freizeit
DESCRIPTION:Fußballspiel A-Liga TSV Vöhl\nKategorie: Sport\, Fitness und Fr
 eizeit\nICS-Link: https://xn--vhl-sna.de/index.php?option=com_jem&view=eve
 nt&id=1281:fussballspiel-a-liga-tsv-voehl\n
DTSTART:20260422T183000Z
DTEND:20260422T183000Z
LOCATION:Sportplatz Vöhl\,Schlossstraße\,34516 Vöhl\,Germany
SUMMARY:Fußballspiel A-Liga TSV Vöhl
URL:https://xn--vhl-sna.de/index.php?option=com_jem&view=event&id=1281:fuss
 ballspiel-a-liga-tsv-voehl
END:VEVENT
END:VCALENDAR