BEGIN:VCALENDAR
VERSION:2.0
PRODID:-//91.233.84.230//NONSGML kigkonsult.se iCalcreator 2.20//
CALSCALE:GREGORIAN
METHOD:PUBLISH
X-WR-TIMEZONE:UTC
BEGIN:VEVENT
UID:event1123@Nationalparkgemeinde Vöhl am Edersee
DTSTAMP:20260421T134940Z
CATEGORIES:Feste in den Ortsteilen
DESCRIPTION:Weinwanderung \nKategorie: Feste in den Ortsteilen\nICS-Link: h
 ttps://xn--vhl-sna.de/index.php?option=com_jem&view=event&id=1123:weinwand
 erung\n
DTSTART;VALUE=DATE:20260912
DTEND;VALUE=DATE:20260913
LOCATION:Ortsteil Buchenberg
SUMMARY:Weinwanderung 
URL:https://xn--vhl-sna.de/index.php?option=com_jem&view=event&id=1123:wein
 wanderung
END:VEVENT
END:VCALENDAR