BEGIN:VCALENDAR
VERSION:2.0
PRODID:-//91.233.84.230//NONSGML kigkonsult.se iCalcreator 2.20//
CALSCALE:GREGORIAN
METHOD:PUBLISH
X-WR-TIMEZONE:UTC
BEGIN:VEVENT
UID:event1095@Nationalparkgemeinde Vöhl am Edersee
DTSTAMP:20260421T135946Z
CATEGORIES:Sonstige
DESCRIPTION:Grenzbegang \nKategorie: Sonstige\nICS-Link: https://xn--vhl-sn
 a.de/index.php?option=com_jem&view=event&id=1095:grenzbegang\n
DTSTART:20260823T090000Z
DTEND:20260823T090000Z
LOCATION:DGH Obernburg\,Wilhelmstraße 3\,34516 Vöhl-Obernburg
SUMMARY:Grenzbegang 
URL:https://xn--vhl-sna.de/index.php?option=com_jem&view=event&id=1095:gren
 zbegang
END:VEVENT
BEGIN:VEVENT
UID:event1137@Nationalparkgemeinde Vöhl am Edersee
DTSTAMP:20260421T135946Z
CATEGORIES:Kultur
DESCRIPTION:Weihnachtsmarkt\nKategorie: Kultur\nICS-Link: https://xn--vhl-s
 na.de/index.php?option=com_jem&view=event&id=1137:weihnachtsmarkt\n
DTSTART:20261128T130000Z
DTEND:20261129T110000Z
LOCATION:DGH Obernburg\,Wilhelmstraße 3\,34516 Vöhl-Obernburg
SUMMARY:Weihnachtsmarkt
URL:https://xn--vhl-sna.de/index.php?option=com_jem&view=event&id=1137:weih
 nachtsmarkt
END:VEVENT
BEGIN:VEVENT
UID:event1190@Nationalparkgemeinde Vöhl am Edersee
DTSTAMP:20260421T135946Z
CATEGORIES:Kultur
DESCRIPTION:Nikolausfeier\nKategorie: Kultur\nICS-Link: https://xn--vhl-sna
 .de/index.php?option=com_jem&view=event&id=1190:nikolausfeier\n
DTSTART:20261206T160000Z
DTEND:20261206T160000Z
LOCATION:DGH Obernburg\,Wilhelmstraße 3\,34516 Vöhl-Obernburg
SUMMARY:Nikolausfeier
URL:https://xn--vhl-sna.de/index.php?option=com_jem&view=event&id=1190:niko
 lausfeier
END:VEVENT
BEGIN:VEVENT
UID:event1125@Nationalparkgemeinde Vöhl am Edersee
DTSTAMP:20260421T135946Z
CATEGORIES:Kultur
DESCRIPTION:Oktoberfest\nKategorie: Kultur\nICS-Link: https://xn--vhl-sna.d
 e/index.php?option=com_jem&view=event&id=1125:oktoberfest\n
DTSTART:20261024T193000Z
DTEND:20261024T193000Z
LOCATION:DGH Obernburg\,Wilhelmstraße 3\,34516 Vöhl-Obernburg
SUMMARY:Oktoberfest
URL:https://xn--vhl-sna.de/index.php?option=com_jem&view=event&id=1125:okto
 berfest
END:VEVENT
BEGIN:VEVENT
UID:event1186@Nationalparkgemeinde Vöhl am Edersee
DTSTAMP:20260421T135946Z
CATEGORIES:Feste in den Ortsteilen
DESCRIPTION:Weihnachtsfeier Chor\nKategorie: Feste in den Ortsteilen\nICS-L
 ink: https://xn--vhl-sna.de/index.php?option=com_jem&view=event&id=1186:we
 ihnachtsfeier-chor\n
DTSTART:20261212T193000Z
DTEND:20261212T193000Z
LOCATION:DGH Obernburg\,Wilhelmstraße 3\,34516 Vöhl-Obernburg
SUMMARY:Weihnachtsfeier Chor
URL:https://xn--vhl-sna.de/index.php?option=com_jem&view=event&id=1186:weih
 nachtsfeier-chor
END:VEVENT
END:VCALENDAR