BEGIN:VCALENDAR
VERSION:2.0
PRODID:-//91.233.84.230//NONSGML kigkonsult.se iCalcreator 2.20//
CALSCALE:GREGORIAN
METHOD:PUBLISH
X-WR-TIMEZONE:UTC
BEGIN:VEVENT
UID:event1132@Nationalparkgemeinde Vöhl am Edersee
DTSTAMP:20260421T135222Z
CATEGORIES:Sport\, Fitness und Freizeit
DESCRIPTION:Ortsstraßenlauf mit Gauwandertag\nKategorie: Sport\, Fitness un
 d Freizeit\nICS-Link: https://xn--vhl-sna.de/index.php?option=com_jem&view
 =event&id=1132:ortsstrassenlauf-mit-gauwandertag\n
DTSTART;VALUE=DATE:20261003
DTEND;VALUE=DATE:20261004
LOCATION:DGH Marienhagen\,Am Sportplatz 8\,34516 Vöhl-Marienhagen
SUMMARY:Ortsstraßenlauf mit Gauwandertag
URL:https://xn--vhl-sna.de/index.php?option=com_jem&view=event&id=1132:orts
 strassenlauf-mit-gauwandertag
END:VEVENT
BEGIN:VEVENT
UID:event1291@Nationalparkgemeinde Vöhl am Edersee
DTSTAMP:20260421T135222Z
CATEGORIES:Sonstige
DESCRIPTION:Maiwanderung mit Dorffrühstück\nKategorie: Sonstige\nICS-Link: 
 https://xn--vhl-sna.de/index.php?option=com_jem&view=event&id=1291:maiwand
 erung-mit-dorffruehstueck\n
DTSTART:20260501T100000Z
DTEND:20260501T100000Z
LOCATION:DGH Marienhagen\,Am Sportplatz 8\,34516 Vöhl-Marienhagen
SUMMARY:Maiwanderung mit Dorffrühstück
URL:https://xn--vhl-sna.de/index.php?option=com_jem&view=event&id=1291:maiw
 anderung-mit-dorffruehstueck
END:VEVENT
END:VCALENDAR