BEGIN:VCALENDAR
VERSION:2.0
PRODID:-//91.233.84.230//NONSGML kigkonsult.se iCalcreator 2.20//
CALSCALE:GREGORIAN
METHOD:PUBLISH
X-WR-TIMEZONE:UTC
BEGIN:VEVENT
UID:event1129@Nationalparkgemeinde Vöhl am Edersee
DTSTAMP:20260421T135838Z
CATEGORIES:(Land-)Frauen
DESCRIPTION:Landfrauen Veranstaltung\nKategorie: (Land-)Frauen\nICS-Link: h
 ttps://xn--vhl-sna.de/index.php?option=com_jem&view=event&id=1129:landfrau
 en-veranstaltung\n
DTSTART;VALUE=DATE:20261021
DTEND;VALUE=DATE:20261022
LOCATION:DGH Dorfitter\,Am Hohlweg 9\,34516 Vöhl-Dorfitter
SUMMARY:Landfrauen Veranstaltung
URL:https://xn--vhl-sna.de/index.php?option=com_jem&view=event&id=1129:land
 frauen-veranstaltung
END:VEVENT
BEGIN:VEVENT
UID:event1147@Nationalparkgemeinde Vöhl am Edersee
DTSTAMP:20260421T135838Z
CATEGORIES:(Land-)Frauen
DESCRIPTION:Landfrauen Veranstaltung\nKategorie: (Land-)Frauen\nICS-Link: h
 ttps://xn--vhl-sna.de/index.php?option=com_jem&view=event&id=1147:landfrau
 en-veranstaltung\n
DTSTART;VALUE=DATE:20261121
DTEND;VALUE=DATE:20261122
LOCATION:DGH Dorfitter\,Am Hohlweg 9\,34516 Vöhl-Dorfitter
SUMMARY:Landfrauen Veranstaltung
URL:https://xn--vhl-sna.de/index.php?option=com_jem&view=event&id=1147:land
 frauen-veranstaltung
END:VEVENT
BEGIN:VEVENT
UID:event1184@Nationalparkgemeinde Vöhl am Edersee
DTSTAMP:20260421T135838Z
CATEGORIES:Feste in den Ortsteilen
DESCRIPTION:Silvesterfeier\nKategorie: Feste in den Ortsteilen\nICS-Link: h
 ttps://xn--vhl-sna.de/index.php?option=com_jem&view=event&id=1184:silveste
 rfeier\n
DTSTART;VALUE=DATE:20261231
DTEND;VALUE=DATE:20270101
LOCATION:DGH Dorfitter\,Am Hohlweg 9\,34516 Vöhl-Dorfitter
SUMMARY:Silvesterfeier
URL:https://xn--vhl-sna.de/index.php?option=com_jem&view=event&id=1184:silv
 esterfeier
END:VEVENT
BEGIN:VEVENT
UID:event1130@Nationalparkgemeinde Vöhl am Edersee
DTSTAMP:20260421T135838Z
CATEGORIES:Sport\, Fitness und Freizeit
DESCRIPTION:Herbstwanderung\nKategorie: Sport\, Fitness und Freizeit\nICS-L
 ink: https://xn--vhl-sna.de/index.php?option=com_jem&view=event&id=1130:he
 rbstwanderung\n
DTSTART:20261031T123000Z
DTEND:20261031T123000Z
LOCATION:DGH Dorfitter\,Am Hohlweg 9\,34516 Vöhl-Dorfitter
SUMMARY:Herbstwanderung
URL:https://xn--vhl-sna.de/index.php?option=com_jem&view=event&id=1130:herb
 stwanderung
END:VEVENT
BEGIN:VEVENT
UID:event1173@Nationalparkgemeinde Vöhl am Edersee
DTSTAMP:20260421T135838Z
CATEGORIES:Senioren
DESCRIPTION:Weihnachtsfeier Senioren\nKategorie: Senioren\nICS-Link: https:
 //xn--vhl-sna.de/index.php?option=com_jem&view=event&id=1173:weihnachtsfei
 er-senioren\n
DTSTART:20261128T140000Z
DTEND:20261128T140000Z
LOCATION:DGH Dorfitter\,Am Hohlweg 9\,34516 Vöhl-Dorfitter
SUMMARY:Weihnachtsfeier Senioren
URL:https://xn--vhl-sna.de/index.php?option=com_jem&view=event&id=1173:weih
 nachtsfeier-senioren
END:VEVENT
BEGIN:VEVENT
UID:event1097@Nationalparkgemeinde Vöhl am Edersee
DTSTAMP:20260421T135838Z
CATEGORIES:Senioren
DESCRIPTION:Seniorennachmittag\nKategorie: Senioren\nICS-Link: https://xn--
 vhl-sna.de/index.php?option=com_jem&view=event&id=1097:seniorennachmittag
 \n
DTSTART:20260820T143000Z
DTEND:20260820T143000Z
LOCATION:DGH Dorfitter\,Am Hohlweg 9\,34516 Vöhl-Dorfitter
SUMMARY:Seniorennachmittag
URL:https://xn--vhl-sna.de/index.php?option=com_jem&view=event&id=1097:seni
 orennachmittag
END:VEVENT
BEGIN:VEVENT
UID:event1120@Nationalparkgemeinde Vöhl am Edersee
DTSTAMP:20260421T135838Z
CATEGORIES:Senioren
DESCRIPTION:Seniorennachmittag\nKategorie: Senioren\nICS-Link: https://xn--
 vhl-sna.de/index.php?option=com_jem&view=event&id=1120:seniorennachmittag
 \n
DTSTART:20260917T143000Z
DTEND:20260917T143000Z
LOCATION:DGH Dorfitter\,Am Hohlweg 9\,34516 Vöhl-Dorfitter
SUMMARY:Seniorennachmittag
URL:https://xn--vhl-sna.de/index.php?option=com_jem&view=event&id=1120:seni
 orennachmittag
END:VEVENT
BEGIN:VEVENT
UID:event1128@Nationalparkgemeinde Vöhl am Edersee
DTSTAMP:20260421T135838Z
CATEGORIES:Senioren
DESCRIPTION:Seniorennachmittag\nKategorie: Senioren\nICS-Link: https://xn--
 vhl-sna.de/index.php?option=com_jem&view=event&id=1128:seniorennachmittag
 \n
DTSTART:20261015T143000Z
DTEND:20261015T143000Z
LOCATION:DGH Dorfitter\,Am Hohlweg 9\,34516 Vöhl-Dorfitter
SUMMARY:Seniorennachmittag
URL:https://xn--vhl-sna.de/index.php?option=com_jem&view=event&id=1128:seni
 orennachmittag
END:VEVENT
BEGIN:VEVENT
UID:event1305@Nationalparkgemeinde Vöhl am Edersee
DTSTAMP:20260421T135838Z
CATEGORIES:Senioren
DESCRIPTION:Seniorennachmittag Seniorenclub Dorfitter\nKategorie: Senioren
 \nICS-Link: https://xn--vhl-sna.de/index.php?option=com_jem&view=event&id=
 1305:seniorennachmittag-seniorenclub-dorfitter\n
DTSTART:20260521T143000Z
DTEND:20260521T143000Z
LOCATION:DGH Dorfitter\,Am Hohlweg 9\,34516 Vöhl-Dorfitter
SUMMARY:Seniorennachmittag Seniorenclub Dorfitter
URL:https://xn--vhl-sna.de/index.php?option=com_jem&view=event&id=1305:seni
 orennachmittag-seniorenclub-dorfitter
END:VEVENT
BEGIN:VEVENT
UID:event1135@Nationalparkgemeinde Vöhl am Edersee
DTSTAMP:20260421T135838Z
CATEGORIES:Sonstige
DESCRIPTION:Terminkalenderbesprechung DO\nKategorie: Sonstige\nICS-Link: ht
 tps://xn--vhl-sna.de/index.php?option=com_jem&view=event&id=1135:terminkal
 enderbesprechung-do\n
DTSTART:20261104T191500Z
DTEND:20261104T191500Z
LOCATION:DGH Dorfitter\,Am Hohlweg 9\,34516 Vöhl-Dorfitter
SUMMARY:Terminkalenderbesprechung DO
URL:https://xn--vhl-sna.de/index.php?option=com_jem&view=event&id=1135:term
 inkalenderbesprechung-do
END:VEVENT
END:VCALENDAR