BEGIN:VCALENDAR
VERSION:2.0
PRODID:-//91.233.84.230//NONSGML kigkonsult.se iCalcreator 2.20//
CALSCALE:GREGORIAN
METHOD:PUBLISH
X-WR-TIMEZONE:UTC
BEGIN:VEVENT
UID:event1089@Nationalparkgemeinde Vöhl am Edersee
DTSTAMP:20260421T163008Z
CATEGORIES:(Land-)Frauen
DESCRIPTION:Landfrauen DO: Freilichtbühne\nKategorie: (Land-)Frauen\nICS-Li
 nk: https://xn--vhl-sna.de/index.php?option=com_jem&view=event&id=1089:lan
 dfrauen-do-freilichtbuehne\n
DTSTART;VALUE=DATE:20260731
DTEND;VALUE=DATE:20260801
LOCATION:Freilichtbühne Korbach\,Violinenstraße 2a\,34497 Korbach\,Germany
SUMMARY:Landfrauen DO: Freilichtbühne
URL:https://xn--vhl-sna.de/index.php?option=com_jem&view=event&id=1089:land
 frauen-do-freilichtbuehne
END:VEVENT
END:VCALENDAR