BEGIN:VCALENDAR
VERSION:2.0
PRODID:-//91.233.84.230//NONSGML kigkonsult.se iCalcreator 2.20//
CALSCALE:GREGORIAN
METHOD:PUBLISH
X-WR-TIMEZONE:UTC
BEGIN:VEVENT
UID:event1101@Nationalparkgemeinde Vöhl am Edersee
DTSTAMP:20260421T135247Z
CATEGORIES:Sonstige
DESCRIPTION:25 Jahre Ederfalken\nKategorie: Sonstige\nICS-Link: https://xn-
 -vhl-sna.de/index.php?option=com_jem&view=event&id=1101:25-jahre-ederfalke
 n\n
DTSTART;VALUE=DATE:20260815
DTEND;VALUE=DATE:20260816
LOCATION:Schutzhütte Ederbringhausen\,34516 Ederbringhausen - Vöhl\,Germany
SUMMARY:25 Jahre Ederfalken
URL:https://xn--vhl-sna.de/index.php?option=com_jem&view=event&id=1101:25-j
 ahre-ederfalken
END:VEVENT
BEGIN:VEVENT
UID:event1290@Nationalparkgemeinde Vöhl am Edersee
DTSTAMP:20260421T135247Z
CATEGORIES:Feste in den Ortsteilen
DESCRIPTION:Maibaumaufstellen\nKategorie: Feste in den Ortsteilen\nICS-Link
 : https://xn--vhl-sna.de/index.php?option=com_jem&view=event&id=1290:maiba
 umaufstellen\n
DTSTART:20260501T110000Z
DTEND:20260501T110000Z
LOCATION:Schutzhütte Ederbringhausen\,34516 Ederbringhausen - Vöhl\,Germany
SUMMARY:Maibaumaufstellen
URL:https://xn--vhl-sna.de/index.php?option=com_jem&view=event&id=1290:maib
 aumaufstellen
END:VEVENT
BEGIN:VEVENT
UID:event1296@Nationalparkgemeinde Vöhl am Edersee
DTSTAMP:20260421T135247Z
CATEGORIES:Feuerwehren
DESCRIPTION:Wasserspiele \nKategorie: Feuerwehren\nICS-Link: https://xn--vh
 l-sna.de/index.php?option=com_jem&view=event&id=1296:wasserspiele\n
DTSTART:20260509T160000Z
DTEND:20260509T160000Z
LOCATION:Schutzhütte Ederbringhausen\,34516 Ederbringhausen - Vöhl\,Germany
SUMMARY:Wasserspiele 
URL:https://xn--vhl-sna.de/index.php?option=com_jem&view=event&id=1296:wass
 erspiele
END:VEVENT
BEGIN:VEVENT
UID:event1171@Nationalparkgemeinde Vöhl am Edersee
DTSTAMP:20260421T135247Z
CATEGORIES:Kultur
DESCRIPTION:Laternenumzug\nKategorie: Kultur\nICS-Link: https://xn--vhl-sna
 .de/index.php?option=com_jem&view=event&id=1171:laternenumzug\n
DTSTART:20261114T170000Z
DTEND:20261114T170000Z
LOCATION:Schutzhütte Ederbringhausen\,34516 Ederbringhausen - Vöhl\,Germany
SUMMARY:Laternenumzug
URL:https://xn--vhl-sna.de/index.php?option=com_jem&view=event&id=1171:late
 rnenumzug
END:VEVENT
BEGIN:VEVENT
UID:event1188@Nationalparkgemeinde Vöhl am Edersee
DTSTAMP:20260421T135247Z
CATEGORIES:Kultur
DESCRIPTION:Nikolausveranstaltung\nKategorie: Kultur\nICS-Link: https://xn-
 -vhl-sna.de/index.php?option=com_jem&view=event&id=1188:nikolausveranstalt
 ung\n
DTSTART:20261206T170000Z
DTEND:20261206T170000Z
LOCATION:Schutzhütte Ederbringhausen\,34516 Ederbringhausen - Vöhl\,Germany
SUMMARY:Nikolausveranstaltung
URL:https://xn--vhl-sna.de/index.php?option=com_jem&view=event&id=1188:niko
 lausveranstaltung
END:VEVENT
END:VCALENDAR