BEGIN:VCALENDAR
VERSION:2.0
PRODID:-//91.233.84.230//NONSGML kigkonsult.se iCalcreator 2.20//
CALSCALE:GREGORIAN
METHOD:PUBLISH
X-WR-TIMEZONE:UTC
BEGIN:VEVENT
UID:event1139@Nationalparkgemeinde Vöhl am Edersee
DTSTAMP:20260421T135757Z
CATEGORIES:Sport\, Fitness und Freizeit
DESCRIPTION:Ehrenamtsabend\nKategorie: Sport\, Fitness und Freizeit\nICS-Li
 nk: https://xn--vhl-sna.de/index.php?option=com_jem&view=event&id=1139:ehr
 enamtsabend\n
DTSTART;VALUE=DATE:20261128
DTEND;VALUE=DATE:20261129
LOCATION:Vereinsheim in Vöhl\,34516 Vöhl\,Germany
SUMMARY:Ehrenamtsabend
URL:https://xn--vhl-sna.de/index.php?option=com_jem&view=event&id=1139:ehre
 namtsabend
END:VEVENT
BEGIN:VEVENT
UID:event1191@Nationalparkgemeinde Vöhl am Edersee
DTSTAMP:20260421T135757Z
CATEGORIES:Kultur
DESCRIPTION:Nikolausabend\nKategorie: Kultur\nICS-Link: https://xn--vhl-sna
 .de/index.php?option=com_jem&view=event&id=1191:nikolausabend\n
DTSTART;VALUE=DATE:20261206
DTEND;VALUE=DATE:20261207
LOCATION:Vereinsheim in Vöhl\,34516 Vöhl\,Germany
SUMMARY:Nikolausabend
URL:https://xn--vhl-sna.de/index.php?option=com_jem&view=event&id=1191:niko
 lausabend
END:VEVENT
END:VCALENDAR