BEGIN:VCALENDAR
VERSION:2.0
PRODID:-//91.233.84.230//NONSGML kigkonsult.se iCalcreator 2.20//
CALSCALE:GREGORIAN
METHOD:PUBLISH
X-WR-TIMEZONE:UTC
BEGIN:VEVENT
UID:event1119@Nationalparkgemeinde Vöhl am Edersee
DTSTAMP:20260421T134854Z
CATEGORIES:Feste in den Ortsteilen
DESCRIPTION:Kartoffelbraten\nKategorie: Feste in den Ortsteilen\nICS-Link: 
 https://xn--vhl-sna.de/index.php?option=com_jem&view=event&id=1119:kartoff
 elbraten\n
DTSTART;VALUE=DATE:20260919
DTEND;VALUE=DATE:20260920
LOCATION:Hof Knoche\,34516 Ederbringhausen\,Germany
SUMMARY:Kartoffelbraten
URL:https://xn--vhl-sna.de/index.php?option=com_jem&view=event&id=1119:kart
 offelbraten
END:VEVENT
END:VCALENDAR