BEGIN:VCALENDAR
VERSION:2.0
PRODID:-//91.233.84.230//NONSGML kigkonsult.se iCalcreator 2.20//
CALSCALE:GREGORIAN
METHOD:PUBLISH
X-WR-TIMEZONE:UTC
BEGIN:VEVENT
UID:event1293@Nationalparkgemeinde Vöhl am Edersee
DTSTAMP:20260421T135206Z
CATEGORIES:Feste in den Ortsteilen
DESCRIPTION:Maibaumaufstellen\nKategorie: Feste in den Ortsteilen\nICS-Link
 : https://xn--vhl-sna.de/index.php?option=com_jem&view=event&id=1293:maiba
 umaufstellen\n
DTSTART;VALUE=DATE:20260501
DTEND;VALUE=DATE:20260502
LOCATION: Vöhler Stuben Landgasthaus\, Basdorfer Straße 12\,34516 Vöhl\,Ger
 many
SUMMARY:Maibaumaufstellen
URL:https://xn--vhl-sna.de/index.php?option=com_jem&view=event&id=1293:maib
 aumaufstellen
END:VEVENT
BEGIN:VEVENT
UID:event1121@Nationalparkgemeinde Vöhl am Edersee
DTSTAMP:20260421T135206Z
CATEGORIES:Kultur
DESCRIPTION:Oktoberfest Vöhler Stuben\nKategorie: Kultur\nICS-Link: https:/
 /xn--vhl-sna.de/index.php?option=com_jem&view=event&id=1121:oktoberfest-vo
 ehler-stuben\n
DTSTART;VALUE=DATE:20260913
DTEND;VALUE=DATE:20260914
LOCATION: Vöhler Stuben Landgasthaus\, Basdorfer Straße 12\,34516 Vöhl\,Ger
 many
SUMMARY:Oktoberfest Vöhler Stuben
URL:https://xn--vhl-sna.de/index.php?option=com_jem&view=event&id=1121:okto
 berfest-voehler-stuben
END:VEVENT
BEGIN:VEVENT
UID:event1085@Nationalparkgemeinde Vöhl am Edersee
DTSTAMP:20260421T135206Z
CATEGORIES:Feste in den Ortsteilen
DESCRIPTION:Sommerfest\nKategorie: Feste in den Ortsteilen\nICS-Link: https
 ://xn--vhl-sna.de/index.php?option=com_jem&view=event&id=1085:sommerfest\n
DTSTART;VALUE=DATE:20260725
DTEND;VALUE=DATE:20260726
LOCATION: Vöhler Stuben Landgasthaus\, Basdorfer Straße 12\,34516 Vöhl\,Ger
 many
SUMMARY:Sommerfest
URL:https://xn--vhl-sna.de/index.php?option=com_jem&view=event&id=1085:somm
 erfest
END:VEVENT
BEGIN:VEVENT
UID:event1138@Nationalparkgemeinde Vöhl am Edersee
DTSTAMP:20260421T135206Z
CATEGORIES:Kultur
DESCRIPTION:Wintermarkt\nKategorie: Kultur\nICS-Link: https://xn--vhl-sna.d
 e/index.php?option=com_jem&view=event&id=1138:wintermarkt\n
DTSTART;VALUE=DATE:20261129
DTEND;VALUE=DATE:20261130
LOCATION: Vöhler Stuben Landgasthaus\, Basdorfer Straße 12\,34516 Vöhl\,Ger
 many
SUMMARY:Wintermarkt
URL:https://xn--vhl-sna.de/index.php?option=com_jem&view=event&id=1138:wint
 ermarkt
END:VEVENT
END:VCALENDAR