BEGIN:VCALENDAR
VERSION:2.0
PRODID:-//91.233.84.230//NONSGML kigkonsult.se iCalcreator 2.20//
CALSCALE:GREGORIAN
METHOD:PUBLISH
X-WR-TIMEZONE:UTC
BEGIN:VEVENT
UID:event1172@Nationalparkgemeinde Vöhl am Edersee
DTSTAMP:20260421T134551Z
CATEGORIES:Feiertage
DESCRIPTION:Volkstrauertag\nKategorie: Feiertage\nICS-Link: https://xn--vhl
 -sna.de/index.php?option=com_jem&view=event&id=1172:volkstrauertag\n
DTSTART;VALUE=DATE:20261115
DTEND;VALUE=DATE:20261116
LOCATION:Friedhof Dorfitter\,34516 Dorfitter - Vöhl\,Germany
SUMMARY:Volkstrauertag
URL:https://xn--vhl-sna.de/index.php?option=com_jem&view=event&id=1172:volk
 strauertag
END:VEVENT
BEGIN:VEVENT
UID:event1145@Nationalparkgemeinde Vöhl am Edersee
DTSTAMP:20260421T134551Z
CATEGORIES:Feiertage
DESCRIPTION:Volkstrauertag\nKategorie: Feiertage\nICS-Link: https://xn--vhl
 -sna.de/index.php?option=com_jem&view=event&id=1145:volkstrauertag\n
DTSTART:20261115T103000Z
DTEND:20261115T103000Z
LOCATION:Neuer Friedhof Vöhl\,34516 Vöhl\,Germany
SUMMARY:Volkstrauertag
URL:https://xn--vhl-sna.de/index.php?option=com_jem&view=event&id=1145:volk
 strauertag
END:VEVENT
BEGIN:VEVENT
UID:event1140@Nationalparkgemeinde Vöhl am Edersee
DTSTAMP:20260421T134551Z
CATEGORIES:Feiertage
DESCRIPTION:Volkstrauertag\nKategorie: Feiertage\nICS-Link: https://xn--vhl
 -sna.de/index.php?option=com_jem&view=event&id=1140:volkstrauertag\n
DTSTART:20261115T110000Z
DTEND:20261115T110000Z
LOCATION:Kirche Ederbringhausen\,Orketalstraße 18\,34516 Ederbringhausen\,G
 ermany
SUMMARY:Volkstrauertag
URL:https://xn--vhl-sna.de/index.php?option=com_jem&view=event&id=1140:volk
 strauertag
END:VEVENT
BEGIN:VEVENT
UID:event1144@Nationalparkgemeinde Vöhl am Edersee
DTSTAMP:20260421T134551Z
CATEGORIES:Feiertage
DESCRIPTION:Volkstrauertag\nKategorie: Feiertage\nICS-Link: https://xn--vhl
 -sna.de/index.php?option=com_jem&view=event&id=1144:volkstrauertag\n
DTSTART:20261115T110000Z
DTEND:20261115T110000Z
LOCATION:Ehrenmal Herzhausen\,34516 Herzhausen - Vöhl\,Germany
SUMMARY:Volkstrauertag
URL:https://xn--vhl-sna.de/index.php?option=com_jem&view=event&id=1144:volk
 strauertag
END:VEVENT
END:VCALENDAR