BEGIN:VCALENDAR
VERSION:2.0
PRODID:-//91.233.84.230//NONSGML kigkonsult.se iCalcreator 2.20//
CALSCALE:GREGORIAN
METHOD:PUBLISH
X-WR-TIMEZONE:UTC
BEGIN:VEVENT
UID:event1307@Nationalparkgemeinde Vöhl am Edersee
DTSTAMP:20260421T122418Z
CATEGORIES:Kirche & Religion
DESCRIPTION:Gemeinde Pfingsgottesdienst\nKategorie: Kirche & Religion\nICS-
 Link: https://xn--vhl-sna.de/index.php?option=com_jem&view=event&id=1307:g
 emeinde-pfingsgottesdienst\n
DTSTART;VALUE=DATE:20260524
DTEND;VALUE=DATE:20260525
LOCATION:Festplatz Buchenberg\, Zum Estenberg 15\,34516 Buchenberg\,Germany
SUMMARY:Gemeinde Pfingsgottesdienst
URL:https://xn--vhl-sna.de/index.php?option=com_jem&view=event&id=1307:geme
 inde-pfingsgottesdienst
END:VEVENT
BEGIN:VEVENT
UID:event1076@Nationalparkgemeinde Vöhl am Edersee
DTSTAMP:20260421T122418Z
CATEGORIES:Kirche & Religion
DESCRIPTION:Führungen durch die Synagoge\nKategorie: Kirche & Religion\nICS
 -Link: https://xn--vhl-sna.de/index.php?option=com_jem&view=event&id=1076:
 fuehrungen-durch-die-synagoge\n
DTSTART:20260706T080000Z
DTEND:20260710T120000Z
LOCATION:Synagoge Vöhl\,Mittelgasse 4\,34516 Vöhl
SUMMARY:Führungen durch die Synagoge
URL:https://xn--vhl-sna.de/index.php?option=com_jem&view=event&id=1076:fueh
 rungen-durch-die-synagoge
END:VEVENT
BEGIN:VEVENT
UID:event1079@Nationalparkgemeinde Vöhl am Edersee
DTSTAMP:20260421T122418Z
CATEGORIES:Kirche & Religion
DESCRIPTION:Führungen durch die Synagoge\nKategorie: Kirche & Religion\nICS
 -Link: https://xn--vhl-sna.de/index.php?option=com_jem&view=event&id=1079:
 fuehrungen-durch-die-synagoge\n
DTSTART:20260713T080000Z
DTEND:20260717T120000Z
LOCATION:Synagoge Vöhl\,Mittelgasse 4\,34516 Vöhl
SUMMARY:Führungen durch die Synagoge
URL:https://xn--vhl-sna.de/index.php?option=com_jem&view=event&id=1079:fueh
 rungen-durch-die-synagoge
END:VEVENT
BEGIN:VEVENT
UID:event1083@Nationalparkgemeinde Vöhl am Edersee
DTSTAMP:20260421T122418Z
CATEGORIES:Kirche & Religion
DESCRIPTION:Führungen durch die Synagoge\nKategorie: Kirche & Religion\nICS
 -Link: https://xn--vhl-sna.de/index.php?option=com_jem&view=event&id=1083:
 fuehrungen-durch-die-synagoge\n
DTSTART:20260720T080000Z
DTEND:20260724T120000Z
LOCATION:Synagoge Vöhl\,Mittelgasse 4\,34516 Vöhl
SUMMARY:Führungen durch die Synagoge
URL:https://xn--vhl-sna.de/index.php?option=com_jem&view=event&id=1083:fueh
 rungen-durch-die-synagoge
END:VEVENT
BEGIN:VEVENT
UID:event1087@Nationalparkgemeinde Vöhl am Edersee
DTSTAMP:20260421T122418Z
CATEGORIES:Kirche & Religion
DESCRIPTION:Führungen durch die Synagoge\nKategorie: Kirche & Religion\nICS
 -Link: https://xn--vhl-sna.de/index.php?option=com_jem&view=event&id=1087:
 fuehrungen-durch-die-synagoge\n
DTSTART:20260727T080000Z
DTEND:20260731T120000Z
LOCATION:Synagoge Vöhl\,Mittelgasse 4\,34516 Vöhl
SUMMARY:Führungen durch die Synagoge
URL:https://xn--vhl-sna.de/index.php?option=com_jem&view=event&id=1087:fueh
 rungen-durch-die-synagoge
END:VEVENT
BEGIN:VEVENT
UID:event1102@Nationalparkgemeinde Vöhl am Edersee
DTSTAMP:20260421T122418Z
CATEGORIES:Kirche & Religion
DESCRIPTION:Führungen durch die Synagoge\nKategorie: Kirche & Religion\nICS
 -Link: https://xn--vhl-sna.de/index.php?option=com_jem&view=event&id=1102:
 fuehrungen-durch-die-synagoge\n
DTSTART:20260803T080000Z
DTEND:20260807T120000Z
LOCATION:Synagoge Vöhl\,Mittelgasse 4\,34516 Vöhl
SUMMARY:Führungen durch die Synagoge
URL:https://xn--vhl-sna.de/index.php?option=com_jem&view=event&id=1102:fueh
 rungen-durch-die-synagoge
END:VEVENT
BEGIN:VEVENT
UID:event1113@Nationalparkgemeinde Vöhl am Edersee
DTSTAMP:20260421T122418Z
CATEGORIES:Kirche & Religion
DESCRIPTION:Haustafelaktion\nKategorie: Kirche & Religion\nICS-Link: https:
 //xn--vhl-sna.de/index.php?option=com_jem&view=event&id=1113:haustafelakti
 on\n
DTSTART:20261025T100000Z
DTEND:20261025T100000Z
LOCATION:Synagoge Vöhl\,Mittelgasse 4\,34516 Vöhl
SUMMARY:Haustafelaktion
URL:https://xn--vhl-sna.de/index.php?option=com_jem&view=event&id=1113:haus
 tafelaktion
END:VEVENT
BEGIN:VEVENT
UID:event1107@Nationalparkgemeinde Vöhl am Edersee
DTSTAMP:20260421T122418Z
CATEGORIES:Kirche & Religion
DESCRIPTION:Tag des Offenen Denkmals\nKategorie: Kirche & Religion\nICS-Lin
 k: https://xn--vhl-sna.de/index.php?option=com_jem&view=event&id=1107:tag-
 des-offenen-denkmals\n
DTSTART:20260913T100000Z
DTEND:20260913T100000Z
LOCATION:Synagoge Vöhl\,Mittelgasse 4\,34516 Vöhl
SUMMARY:Tag des Offenen Denkmals
URL:https://xn--vhl-sna.de/index.php?option=com_jem&view=event&id=1107:tag-
 des-offenen-denkmals
END:VEVENT
BEGIN:VEVENT
UID:event1282@Nationalparkgemeinde Vöhl am Edersee
DTSTAMP:20260421T122418Z
CATEGORIES:Kirche & Religion
DESCRIPTION:Konfirmation\nKategorie: Kirche & Religion\nICS-Link: https://x
 n--vhl-sna.de/index.php?option=com_jem&view=event&id=1282:konfirmation\n
DTSTART:20260426T110000Z
DTEND:20260426T110000Z
LOCATION:Kirche Ederbringhausen\,Orketalstraße 18\,34516 Ederbringhausen\,G
 ermany
SUMMARY:Konfirmation
URL:https://xn--vhl-sna.de/index.php?option=com_jem&view=event&id=1282:konf
 irmation
END:VEVENT
BEGIN:VEVENT
UID:event1077@Nationalparkgemeinde Vöhl am Edersee
DTSTAMP:20260421T122418Z
CATEGORIES:Kirche & Religion
DESCRIPTION:Führungen durch die Synagoge\nKategorie: Kirche & Religion\nICS
 -Link: https://xn--vhl-sna.de/index.php?option=com_jem&view=event&id=1077:
 fuehrungen-durch-die-synagoge\n
DTSTART:20260706T130000Z
DTEND:20260710T170000Z
LOCATION:Synagoge Vöhl\,Mittelgasse 4\,34516 Vöhl
SUMMARY:Führungen durch die Synagoge
URL:https://xn--vhl-sna.de/index.php?option=com_jem&view=event&id=1077:fueh
 rungen-durch-die-synagoge
END:VEVENT
BEGIN:VEVENT
UID:event1080@Nationalparkgemeinde Vöhl am Edersee
DTSTAMP:20260421T122418Z
CATEGORIES:Kirche & Religion
DESCRIPTION:Führungen durch die Synagoge\nKategorie: Kirche & Religion\nICS
 -Link: https://xn--vhl-sna.de/index.php?option=com_jem&view=event&id=1080:
 fuehrungen-durch-die-synagoge\n
DTSTART:20260713T130000Z
DTEND:20260717T170000Z
LOCATION:Synagoge Vöhl\,Mittelgasse 4\,34516 Vöhl
SUMMARY:Führungen durch die Synagoge
URL:https://xn--vhl-sna.de/index.php?option=com_jem&view=event&id=1080:fueh
 rungen-durch-die-synagoge
END:VEVENT
BEGIN:VEVENT
UID:event1084@Nationalparkgemeinde Vöhl am Edersee
DTSTAMP:20260421T122418Z
CATEGORIES:Kirche & Religion
DESCRIPTION:Führungen durch die Synagoge\nKategorie: Kirche & Religion\nICS
 -Link: https://xn--vhl-sna.de/index.php?option=com_jem&view=event&id=1084:
 fuehrungen-durch-die-synagoge\n
DTSTART:20260720T130000Z
DTEND:20260724T170000Z
LOCATION:Synagoge Vöhl\,Mittelgasse 4\,34516 Vöhl
SUMMARY:Führungen durch die Synagoge
URL:https://xn--vhl-sna.de/index.php?option=com_jem&view=event&id=1084:fueh
 rungen-durch-die-synagoge
END:VEVENT
BEGIN:VEVENT
UID:event1088@Nationalparkgemeinde Vöhl am Edersee
DTSTAMP:20260421T122418Z
CATEGORIES:Kirche & Religion
DESCRIPTION:Führungen durch die Synagoge\nKategorie: Kirche & Religion\nICS
 -Link: https://xn--vhl-sna.de/index.php?option=com_jem&view=event&id=1088:
 fuehrungen-durch-die-synagoge\n
DTSTART:20260727T130000Z
DTEND:20260731T170000Z
LOCATION:Synagoge Vöhl\,Mittelgasse 4\,34516 Vöhl
SUMMARY:Führungen durch die Synagoge
URL:https://xn--vhl-sna.de/index.php?option=com_jem&view=event&id=1088:fueh
 rungen-durch-die-synagoge
END:VEVENT
BEGIN:VEVENT
UID:event1103@Nationalparkgemeinde Vöhl am Edersee
DTSTAMP:20260421T122418Z
CATEGORIES:Kirche & Religion
DESCRIPTION:Führungen durch die Synagoge\nKategorie: Kirche & Religion\nICS
 -Link: https://xn--vhl-sna.de/index.php?option=com_jem&view=event&id=1103:
 fuehrungen-durch-die-synagoge\n
DTSTART:20260803T130000Z
DTEND:20260807T170000Z
LOCATION:Synagoge Vöhl\,Mittelgasse 4\,34516 Vöhl
SUMMARY:Führungen durch die Synagoge
URL:https://xn--vhl-sna.de/index.php?option=com_jem&view=event&id=1103:fueh
 rungen-durch-die-synagoge
END:VEVENT
BEGIN:VEVENT
UID:event1108@Nationalparkgemeinde Vöhl am Edersee
DTSTAMP:20260421T122418Z
CATEGORIES:Kirche & Religion
DESCRIPTION:Tag des Offenen Denkmals mit Kaffee und Kuchen\nKategorie: Kirc
 he & Religion\nICS-Link: https://xn--vhl-sna.de/index.php?option=com_jem&v
 iew=event&id=1108:tag-des-offenen-denkmals-mit-kaffee-und-kuchen\n
DTSTART:20260913T143000Z
DTEND:20260913T143000Z
LOCATION:Synagoge Vöhl\,Mittelgasse 4\,34516 Vöhl
SUMMARY:Tag des Offenen Denkmals mit Kaffee und Kuchen
URL:https://xn--vhl-sna.de/index.php?option=com_jem&view=event&id=1108:tag-
 des-offenen-denkmals-mit-kaffee-und-kuchen
END:VEVENT
BEGIN:VEVENT
UID:event1075@Nationalparkgemeinde Vöhl am Edersee
DTSTAMP:20260421T122418Z
CATEGORIES:Kirche & Religion
DESCRIPTION:Führung über den jüdischen Friedhof\nKategorie: Kirche & Religi
 on\nICS-Link: https://xn--vhl-sna.de/index.php?option=com_jem&view=event&i
 d=1075:fuehrung-ueber-den-juedischen-friedhof\n
DTSTART:20260705T150000Z
DTEND:20260705T150000Z
LOCATION:Synagoge Vöhl\,Mittelgasse 4\,34516 Vöhl
SUMMARY:Führung über den jüdischen Friedhof
URL:https://xn--vhl-sna.de/index.php?option=com_jem&view=event&id=1075:fueh
 rung-ueber-den-juedischen-friedhof
END:VEVENT
BEGIN:VEVENT
UID:event1109@Nationalparkgemeinde Vöhl am Edersee
DTSTAMP:20260421T122418Z
CATEGORIES:Kirche & Religion
DESCRIPTION:Literaturcafé mit Kaffee und Kuchen\nKategorie: Kirche & Religi
 on\nICS-Link: https://xn--vhl-sna.de/index.php?option=com_jem&view=event&i
 d=1109:literaturcafe-mit-kaffee-und-kuchen\n
DTSTART:20260927T150000Z
DTEND:20260927T150000Z
LOCATION:Synagoge Vöhl\,Mittelgasse 4\,34516 Vöhl
SUMMARY:Literaturcafé mit Kaffee und Kuchen
URL:https://xn--vhl-sna.de/index.php?option=com_jem&view=event&id=1109:lite
 raturcafe-mit-kaffee-und-kuchen
END:VEVENT
BEGIN:VEVENT
UID:event1091@Nationalparkgemeinde Vöhl am Edersee
DTSTAMP:20260421T122418Z
CATEGORIES:Kirche & Religion
DESCRIPTION:Offene Synagoge\nKategorie: Kirche & Religion\nICS-Link: https:
 //xn--vhl-sna.de/index.php?option=com_jem&view=event&id=1091:offene-synago
 ge\n
DTSTART:20260802T150000Z
DTEND:20260802T170000Z
LOCATION:Synagoge Vöhl\,Mittelgasse 4\,34516 Vöhl
SUMMARY:Offene Synagoge
URL:https://xn--vhl-sna.de/index.php?option=com_jem&view=event&id=1091:offe
 ne-synagoge
END:VEVENT
BEGIN:VEVENT
UID:event1104@Nationalparkgemeinde Vöhl am Edersee
DTSTAMP:20260421T122418Z
CATEGORIES:Kirche & Religion
DESCRIPTION:Offene Synagoge\nKategorie: Kirche & Religion\nICS-Link: https:
 //xn--vhl-sna.de/index.php?option=com_jem&view=event&id=1104:offene-synago
 ge\n
DTSTART:20260809T150000Z
DTEND:20260809T170000Z
LOCATION:Synagoge Vöhl\,Mittelgasse 4\,34516 Vöhl
SUMMARY:Offene Synagoge
URL:https://xn--vhl-sna.de/index.php?option=com_jem&view=event&id=1104:offe
 ne-synagoge
END:VEVENT
BEGIN:VEVENT
UID:event1110@Nationalparkgemeinde Vöhl am Edersee
DTSTAMP:20260421T122418Z
CATEGORIES:Kirche & Religion
DESCRIPTION:Offene Synagoge\nKategorie: Kirche & Religion\nICS-Link: https:
 //xn--vhl-sna.de/index.php?option=com_jem&view=event&id=1110:offene-synago
 ge\n
DTSTART:20261011T150000Z
DTEND:20261011T170000Z
LOCATION:Synagoge Vöhl\,Mittelgasse 4\,34516 Vöhl
SUMMARY:Offene Synagoge
URL:https://xn--vhl-sna.de/index.php?option=com_jem&view=event&id=1110:offe
 ne-synagoge
END:VEVENT
BEGIN:VEVENT
UID:event1175@Nationalparkgemeinde Vöhl am Edersee
DTSTAMP:20260421T122418Z
CATEGORIES:Kirche & Religion
DESCRIPTION:Offene Synagoge\nKategorie: Kirche & Religion\nICS-Link: https:
 //xn--vhl-sna.de/index.php?option=com_jem&view=event&id=1175:offene-synago
 ge\n
DTSTART:20261108T150000Z
DTEND:20261108T170000Z
LOCATION:Synagoge Vöhl\,Mittelgasse 4\,34516 Vöhl
SUMMARY:Offene Synagoge
URL:https://xn--vhl-sna.de/index.php?option=com_jem&view=event&id=1175:offe
 ne-synagoge
END:VEVENT
BEGIN:VEVENT
UID:event1179@Nationalparkgemeinde Vöhl am Edersee
DTSTAMP:20260421T122418Z
CATEGORIES:Kirche & Religion
DESCRIPTION:Offene Synagoge\nKategorie: Kirche & Religion\nICS-Link: https:
 //xn--vhl-sna.de/index.php?option=com_jem&view=event&id=1179:offene-synago
 ge\n
DTSTART:20261213T150000Z
DTEND:20261213T170000Z
LOCATION:Synagoge Vöhl\,Mittelgasse 4\,34516 Vöhl
SUMMARY:Offene Synagoge
URL:https://xn--vhl-sna.de/index.php?option=com_jem&view=event&id=1179:offe
 ne-synagoge
END:VEVENT
BEGIN:VEVENT
UID:event1086@Nationalparkgemeinde Vöhl am Edersee
DTSTAMP:20260421T122418Z
CATEGORIES:Kirche & Religion
DESCRIPTION:Spaziergang auf den Spuren Vöhler Juden\nKategorie: Kirche & Re
 ligion\nICS-Link: https://xn--vhl-sna.de/index.php?option=com_jem&view=eve
 nt&id=1086:spaziergang-auf-den-spuren-voehler-juden\n
DTSTART:20260726T150000Z
DTEND:20260726T150000Z
LOCATION:Synagoge Vöhl\,Mittelgasse 4\,34516 Vöhl
SUMMARY:Spaziergang auf den Spuren Vöhler Juden
URL:https://xn--vhl-sna.de/index.php?option=com_jem&view=event&id=1086:spaz
 iergang-auf-den-spuren-voehler-juden
END:VEVENT
BEGIN:VEVENT
UID:event1082@Nationalparkgemeinde Vöhl am Edersee
DTSTAMP:20260421T122418Z
CATEGORIES:Kirche & Religion
DESCRIPTION:Vortrag über die Gewerbe der Vöhler Juden\nKategorie: Kirche & 
 Religion\nICS-Link: https://xn--vhl-sna.de/index.php?option=com_jem&view=e
 vent&id=1082:vortrag-ueber-die-gewerbe-der-voehler-juden\n
DTSTART:20260719T150000Z
DTEND:20260719T150000Z
LOCATION:Synagoge Vöhl\,Mittelgasse 4\,34516 Vöhl
SUMMARY:Vortrag über die Gewerbe der Vöhler Juden
URL:https://xn--vhl-sna.de/index.php?option=com_jem&view=event&id=1082:vort
 rag-ueber-die-gewerbe-der-voehler-juden
END:VEVENT
BEGIN:VEVENT
UID:event1078@Nationalparkgemeinde Vöhl am Edersee
DTSTAMP:20260421T122418Z
CATEGORIES:Kirche & Religion
DESCRIPTION:Vortrag über die jüdische Gemeinde\nKategorie: Kirche & Religio
 n\nICS-Link: https://xn--vhl-sna.de/index.php?option=com_jem&view=event&id
 =1078:vortrag-ueber-die-juedische-gemeinde\n
DTSTART:20260712T150000Z
DTEND:20260712T150000Z
LOCATION:Synagoge Vöhl\,Mittelgasse 4\,34516 Vöhl
SUMMARY:Vortrag über die jüdische Gemeinde
URL:https://xn--vhl-sna.de/index.php?option=com_jem&view=event&id=1078:vort
 rag-ueber-die-juedische-gemeinde
END:VEVENT
BEGIN:VEVENT
UID:event1180@Nationalparkgemeinde Vöhl am Edersee
DTSTAMP:20260421T122418Z
CATEGORIES:Kirche & Religion
DESCRIPTION:Weihnachtskino \nKategorie: Kirche & Religion\nICS-Link: https:
 //xn--vhl-sna.de/index.php?option=com_jem&view=event&id=1180:weihnachtskin
 o\n
DTSTART:20261220T150000Z
DTEND:20261220T150000Z
LOCATION:Synagoge Vöhl\,Mittelgasse 4\,34516 Vöhl
SUMMARY:Weihnachtskino 
URL:https://xn--vhl-sna.de/index.php?option=com_jem&view=event&id=1180:weih
 nachtskino
END:VEVENT
BEGIN:VEVENT
UID:event1111@Nationalparkgemeinde Vöhl am Edersee
DTSTAMP:20260421T122418Z
CATEGORIES:Kirche & Religion
DESCRIPTION:Dienstagskino Synagoge\nKategorie: Kirche & Religion\nICS-Link:
  https://xn--vhl-sna.de/index.php?option=com_jem&view=event&id=1111:dienst
 agskino-synagoge\n
DTSTART:20261013T190000Z
DTEND:20261013T190000Z
LOCATION:Synagoge Vöhl\,Mittelgasse 4\,34516 Vöhl
SUMMARY:Dienstagskino Synagoge
URL:https://xn--vhl-sna.de/index.php?option=com_jem&view=event&id=1111:dien
 stagskino-synagoge
END:VEVENT
BEGIN:VEVENT
UID:event1177@Nationalparkgemeinde Vöhl am Edersee
DTSTAMP:20260421T122418Z
CATEGORIES:Kirche & Religion
DESCRIPTION:Dienstagskino Synagoge\nKategorie: Kirche & Religion\nICS-Link:
  https://xn--vhl-sna.de/index.php?option=com_jem&view=event&id=1177:dienst
 agskino-synagoge\n
DTSTART:20261110T190000Z
DTEND:20261110T190000Z
LOCATION:Synagoge Vöhl\,Mittelgasse 4\,34516 Vöhl
SUMMARY:Dienstagskino Synagoge
URL:https://xn--vhl-sna.de/index.php?option=com_jem&view=event&id=1177:dien
 stagskino-synagoge
END:VEVENT
BEGIN:VEVENT
UID:event1105@Nationalparkgemeinde Vöhl am Edersee
DTSTAMP:20260421T122418Z
CATEGORIES:Kirche & Religion
DESCRIPTION:Landkulturboten präsentieren Projekte\nKategorie: Kirche & Reli
 gion\nICS-Link: https://xn--vhl-sna.de/index.php?option=com_jem&view=event
 &id=1105:landkulturboten-praesentieren-projekte\n
DTSTART:20260827T190000Z
DTEND:20260827T190000Z
LOCATION:Synagoge Vöhl\,Mittelgasse 4\,34516 Vöhl
SUMMARY:Landkulturboten präsentieren Projekte
URL:https://xn--vhl-sna.de/index.php?option=com_jem&view=event&id=1105:land
 kulturboten-praesentieren-projekte
END:VEVENT
BEGIN:VEVENT
UID:event1106@Nationalparkgemeinde Vöhl am Edersee
DTSTAMP:20260421T122418Z
CATEGORIES:Kirche & Religion
DESCRIPTION:Synagogenkonzert\nKategorie: Kirche & Religion\nICS-Link: https
 ://xn--vhl-sna.de/index.php?option=com_jem&view=event&id=1106:synagogenkon
 zert\n
DTSTART:20260912T190000Z
DTEND:20260912T190000Z
LOCATION:Synagoge Vöhl\,Mittelgasse 4\,34516 Vöhl
SUMMARY:Synagogenkonzert
URL:https://xn--vhl-sna.de/index.php?option=com_jem&view=event&id=1106:syna
 gogenkonzert
END:VEVENT
BEGIN:VEVENT
UID:event1112@Nationalparkgemeinde Vöhl am Edersee
DTSTAMP:20260421T122418Z
CATEGORIES:Kirche & Religion
DESCRIPTION:Synagogenkonzert\nKategorie: Kirche & Religion\nICS-Link: https
 ://xn--vhl-sna.de/index.php?option=com_jem&view=event&id=1112:synagogenkon
 zert\n
DTSTART:20261017T190000Z
DTEND:20261017T190000Z
LOCATION:Synagoge Vöhl\,Mittelgasse 4\,34516 Vöhl
SUMMARY:Synagogenkonzert
URL:https://xn--vhl-sna.de/index.php?option=com_jem&view=event&id=1112:syna
 gogenkonzert
END:VEVENT
BEGIN:VEVENT
UID:event1178@Nationalparkgemeinde Vöhl am Edersee
DTSTAMP:20260421T122418Z
CATEGORIES:Kirche & Religion
DESCRIPTION:Synagogenkonzert\nKategorie: Kirche & Religion\nICS-Link: https
 ://xn--vhl-sna.de/index.php?option=com_jem&view=event&id=1178:synagogenkon
 zert\n
DTSTART:20261205T190000Z
DTEND:20261205T190000Z
LOCATION:Synagoge Vöhl\,Mittelgasse 4\,34516 Vöhl
SUMMARY:Synagogenkonzert
URL:https://xn--vhl-sna.de/index.php?option=com_jem&view=event&id=1178:syna
 gogenkonzert
END:VEVENT
BEGIN:VEVENT
UID:event1176@Nationalparkgemeinde Vöhl am Edersee
DTSTAMP:20260421T122418Z
CATEGORIES:Kirche & Religion
DESCRIPTION:Gedenken zu den Novemberpogromen\nKategorie: Kirche & Religion
 \nICS-Link: https://xn--vhl-sna.de/index.php?option=com_jem&view=event&id=
 1176:gedenken-zu-den-novemberpogromen\n
DTSTART:20261109T200000Z
DTEND:20261109T200000Z
LOCATION:Synagoge Vöhl\,Mittelgasse 4\,34516 Vöhl
SUMMARY:Gedenken zu den Novemberpogromen
URL:https://xn--vhl-sna.de/index.php?option=com_jem&view=event&id=1176:gede
 nken-zu-den-novemberpogromen
END:VEVENT
END:VCALENDAR