BEGIN:VCALENDAR
VERSION:2.0
PRODID:-//91.233.84.230//NONSGML kigkonsult.se iCalcreator 2.20//
CALSCALE:GREGORIAN
METHOD:PUBLISH
X-WR-TIMEZONE:UTC
BEGIN:VEVENT
UID:event1173@Nationalparkgemeinde Vöhl am Edersee
DTSTAMP:20260421T151324Z
CATEGORIES:Senioren
DESCRIPTION:Weihnachtsfeier Senioren\nKategorie: Senioren\nICS-Link: https:
 //xn--vhl-sna.de/index.php?option=com_jem&view=event&id=1173:weihnachtsfei
 er-senioren\n
DTSTART:20261128T140000Z
DTEND:20261128T140000Z
LOCATION:DGH Dorfitter\,Am Hohlweg 9\,34516 Vöhl-Dorfitter
SUMMARY:Weihnachtsfeier Senioren
URL:https://xn--vhl-sna.de/index.php?option=com_jem&view=event&id=1173:weih
 nachtsfeier-senioren
END:VEVENT
BEGIN:VEVENT
UID:event1097@Nationalparkgemeinde Vöhl am Edersee
DTSTAMP:20260421T151324Z
CATEGORIES:Senioren
DESCRIPTION:Seniorennachmittag\nKategorie: Senioren\nICS-Link: https://xn--
 vhl-sna.de/index.php?option=com_jem&view=event&id=1097:seniorennachmittag
 \n
DTSTART:20260820T143000Z
DTEND:20260820T143000Z
LOCATION:DGH Dorfitter\,Am Hohlweg 9\,34516 Vöhl-Dorfitter
SUMMARY:Seniorennachmittag
URL:https://xn--vhl-sna.de/index.php?option=com_jem&view=event&id=1097:seni
 orennachmittag
END:VEVENT
BEGIN:VEVENT
UID:event1120@Nationalparkgemeinde Vöhl am Edersee
DTSTAMP:20260421T151324Z
CATEGORIES:Senioren
DESCRIPTION:Seniorennachmittag\nKategorie: Senioren\nICS-Link: https://xn--
 vhl-sna.de/index.php?option=com_jem&view=event&id=1120:seniorennachmittag
 \n
DTSTART:20260917T143000Z
DTEND:20260917T143000Z
LOCATION:DGH Dorfitter\,Am Hohlweg 9\,34516 Vöhl-Dorfitter
SUMMARY:Seniorennachmittag
URL:https://xn--vhl-sna.de/index.php?option=com_jem&view=event&id=1120:seni
 orennachmittag
END:VEVENT
BEGIN:VEVENT
UID:event1128@Nationalparkgemeinde Vöhl am Edersee
DTSTAMP:20260421T151324Z
CATEGORIES:Senioren
DESCRIPTION:Seniorennachmittag\nKategorie: Senioren\nICS-Link: https://xn--
 vhl-sna.de/index.php?option=com_jem&view=event&id=1128:seniorennachmittag
 \n
DTSTART:20261015T143000Z
DTEND:20261015T143000Z
LOCATION:DGH Dorfitter\,Am Hohlweg 9\,34516 Vöhl-Dorfitter
SUMMARY:Seniorennachmittag
URL:https://xn--vhl-sna.de/index.php?option=com_jem&view=event&id=1128:seni
 orennachmittag
END:VEVENT
BEGIN:VEVENT
UID:event1305@Nationalparkgemeinde Vöhl am Edersee
DTSTAMP:20260421T151324Z
CATEGORIES:Senioren
DESCRIPTION:Seniorennachmittag Seniorenclub Dorfitter\nKategorie: Senioren
 \nICS-Link: https://xn--vhl-sna.de/index.php?option=com_jem&view=event&id=
 1305:seniorennachmittag-seniorenclub-dorfitter\n
DTSTART:20260521T143000Z
DTEND:20260521T143000Z
LOCATION:DGH Dorfitter\,Am Hohlweg 9\,34516 Vöhl-Dorfitter
SUMMARY:Seniorennachmittag Seniorenclub Dorfitter
URL:https://xn--vhl-sna.de/index.php?option=com_jem&view=event&id=1305:seni
 orennachmittag-seniorenclub-dorfitter
END:VEVENT
BEGIN:VEVENT
UID:event1098@Nationalparkgemeinde Vöhl am Edersee
DTSTAMP:20260421T151324Z
CATEGORIES:Senioren
DESCRIPTION:Seniorennachmittag\nKategorie: Senioren\nICS-Link: https://xn--
 vhl-sna.de/index.php?option=com_jem&view=event&id=1098:seniorennachmittag
 \n
DTSTART:20260805T150000Z
DTEND:20260805T150000Z
LOCATION:Henkelhalle\,Schlossstraße 10\,34516 Vöhl
SUMMARY:Seniorennachmittag
URL:https://xn--vhl-sna.de/index.php?option=com_jem&view=event&id=1098:seni
 orennachmittag
END:VEVENT
BEGIN:VEVENT
UID:event1114@Nationalparkgemeinde Vöhl am Edersee
DTSTAMP:20260421T151324Z
CATEGORIES:Senioren
DESCRIPTION:Seniorennachmittag\nKategorie: Senioren\nICS-Link: https://xn--
 vhl-sna.de/index.php?option=com_jem&view=event&id=1114:seniorennachmittag
 \n
DTSTART:20260902T150000Z
DTEND:20260902T150000Z
LOCATION:Henkelhalle\,Schlossstraße 10\,34516 Vöhl
SUMMARY:Seniorennachmittag
URL:https://xn--vhl-sna.de/index.php?option=com_jem&view=event&id=1114:seni
 orennachmittag
END:VEVENT
BEGIN:VEVENT
UID:event1131@Nationalparkgemeinde Vöhl am Edersee
DTSTAMP:20260421T151324Z
CATEGORIES:Senioren
DESCRIPTION:Seniorennachmittag\nKategorie: Senioren\nICS-Link: https://xn--
 vhl-sna.de/index.php?option=com_jem&view=event&id=1131:seniorennachmittag
 \n
DTSTART:20261007T150000Z
DTEND:20261007T150000Z
LOCATION:Henkelhalle\,Schlossstraße 10\,34516 Vöhl
SUMMARY:Seniorennachmittag
URL:https://xn--vhl-sna.de/index.php?option=com_jem&view=event&id=1131:seni
 orennachmittag
END:VEVENT
BEGIN:VEVENT
UID:event1187@Nationalparkgemeinde Vöhl am Edersee
DTSTAMP:20260421T151324Z
CATEGORIES:Senioren
DESCRIPTION:Seniorennachmittag\nKategorie: Senioren\nICS-Link: https://xn--
 vhl-sna.de/index.php?option=com_jem&view=event&id=1187:seniorennachmittag
 \n
DTSTART:20261202T150000Z
DTEND:20261202T150000Z
LOCATION:Henkelhalle\,Schlossstraße 10\,34516 Vöhl
SUMMARY:Seniorennachmittag
URL:https://xn--vhl-sna.de/index.php?option=com_jem&view=event&id=1187:seni
 orennachmittag
END:VEVENT
BEGIN:VEVENT
UID:event1074@Nationalparkgemeinde Vöhl am Edersee
DTSTAMP:20260421T151324Z
CATEGORIES:Senioren
DESCRIPTION:Seniorennachmittag \nKategorie: Senioren\nICS-Link: https://xn-
 -vhl-sna.de/index.php?option=com_jem&view=event&id=1074:seniorennachmittag
 \n
DTSTART:20260701T150000Z
DTEND:20260701T150000Z
LOCATION:Henkelhalle\,Schlossstraße 10\,34516 Vöhl
SUMMARY:Seniorennachmittag 
URL:https://xn--vhl-sna.de/index.php?option=com_jem&view=event&id=1074:seni
 orennachmittag
END:VEVENT
BEGIN:VEVENT
UID:event1222@Nationalparkgemeinde Vöhl am Edersee
DTSTAMP:20260421T151324Z
CATEGORIES:Senioren
DESCRIPTION:Seniorennachmittag Seniorenclub & VDK\nKategorie: Senioren\nICS
 -Link: https://xn--vhl-sna.de/index.php?option=com_jem&view=event&id=1222:
 seniorennachmittag-seniorenclub-vdk\n
DTSTART:20260604T150000Z
DTEND:20260604T150000Z
LOCATION:Henkelhalle\,Schlossstraße 10\,34516 Vöhl
SUMMARY:Seniorennachmittag Seniorenclub & VDK
URL:https://xn--vhl-sna.de/index.php?option=com_jem&view=event&id=1222:seni
 orennachmittag-seniorenclub-vdk
END:VEVENT
BEGIN:VEVENT
UID:event1295@Nationalparkgemeinde Vöhl am Edersee
DTSTAMP:20260421T151324Z
CATEGORIES:Senioren
DESCRIPTION:Seniorennachmittag Seniorenclub & VDK\nKategorie: Senioren\nICS
 -Link: https://xn--vhl-sna.de/index.php?option=com_jem&view=event&id=1295:
 seniorennachmittag-seniorenclub-vdk\n
DTSTART:20260506T150000Z
DTEND:20260506T150000Z
LOCATION:Henkelhalle\,Schlossstraße 10\,34516 Vöhl
SUMMARY:Seniorennachmittag Seniorenclub & VDK
URL:https://xn--vhl-sna.de/index.php?option=com_jem&view=event&id=1295:seni
 orennachmittag-seniorenclub-vdk
END:VEVENT
BEGIN:VEVENT
UID:event1136@Nationalparkgemeinde Vöhl am Edersee
DTSTAMP:20260421T151324Z
CATEGORIES:Senioren
DESCRIPTION:Seniorennachmittag VÖ\nKategorie: Senioren\nICS-Link: https://x
 n--vhl-sna.de/index.php?option=com_jem&view=event&id=1136:seniorennachmitt
 ag-voe\n
DTSTART:20261104T150000Z
DTEND:20261104T150000Z
LOCATION:Henkelhalle\,Schlossstraße 10\,34516 Vöhl
SUMMARY:Seniorennachmittag VÖ
URL:https://xn--vhl-sna.de/index.php?option=com_jem&view=event&id=1136:seni
 orennachmittag-voe
END:VEVENT
BEGIN:VEVENT
UID:event1081@Nationalparkgemeinde Vöhl am Edersee
DTSTAMP:20260421T151324Z
CATEGORIES:Senioren
DESCRIPTION:Seniorengrillnachmittag\nKategorie: Senioren\nICS-Link: https:/
 /xn--vhl-sna.de/index.php?option=com_jem&view=event&id=1081:seniorengrilln
 achmittag\n
DTSTART:20260716T160000Z
DTEND:20260716T160000Z
LOCATION:Ortsteil Dorfitter
SUMMARY:Seniorengrillnachmittag
URL:https://xn--vhl-sna.de/index.php?option=com_jem&view=event&id=1081:seni
 orengrillnachmittag
END:VEVENT
END:VCALENDAR