BEGIN:VCALENDAR
VERSION:2.0
PRODID:-//91.233.84.230//NONSGML kigkonsult.se iCalcreator 2.20//
CALSCALE:GREGORIAN
METHOD:PUBLISH
X-WR-TIMEZONE:UTC
BEGIN:VEVENT
UID:event1139@Nationalparkgemeinde Vöhl am Edersee
DTSTAMP:20260421T122938Z
CATEGORIES:Sport\, Fitness und Freizeit
DESCRIPTION:Ehrenamtsabend\nKategorie: Sport\, Fitness und Freizeit\nICS-Li
 nk: https://xn--vhl-sna.de/index.php?option=com_jem&view=event&id=1139:ehr
 enamtsabend\n
DTSTART;VALUE=DATE:20261128
DTEND;VALUE=DATE:20261129
LOCATION:Vereinsheim in Vöhl\,34516 Vöhl\,Germany
SUMMARY:Ehrenamtsabend
URL:https://xn--vhl-sna.de/index.php?option=com_jem&view=event&id=1139:ehre
 namtsabend
END:VEVENT
BEGIN:VEVENT
UID:event1230@Nationalparkgemeinde Vöhl am Edersee
DTSTAMP:20260421T122938Z
CATEGORIES:Sport\, Fitness und Freizeit
DESCRIPTION:Flying Goalie Torwartcamp\nKategorie: Sport\, Fitness und Freiz
 eit\nICS-Link: https://xn--vhl-sna.de/index.php?option=com_jem&view=event&
 id=1230:flying-goalie-torwartcamp\n
DTSTART;VALUE=DATE:20260627
DTEND;VALUE=DATE:20260629
LOCATION:Sportplatz Buchenberg\,Zum Sportplatz\,34516 Buchenberg\,Germany
SUMMARY:Flying Goalie Torwartcamp
URL:https://xn--vhl-sna.de/index.php?option=com_jem&view=event&id=1230:flyi
 ng-goalie-torwartcamp
END:VEVENT
BEGIN:VEVENT
UID:event1229@Nationalparkgemeinde Vöhl am Edersee
DTSTAMP:20260421T122938Z
CATEGORIES:Sport\, Fitness und Freizeit
DESCRIPTION:Großes Springturnier Reit- und Fahrverein Vöhl\nKategorie: Spor
 t\, Fitness und Freizeit\nICS-Link: https://xn--vhl-sna.de/index.php?optio
 n=com_jem&view=event&id=1229:grosses-springturnier-reit-und-fahrverein-voe
 hl\n
DTSTART;VALUE=DATE:20260626
DTEND;VALUE=DATE:20260629
LOCATION:Reitanlage Vöhl\,Am Reitplatz 1\,34516 Vöhl
SUMMARY:Großes Springturnier Reit- und Fahrverein Vöhl
URL:https://xn--vhl-sna.de/index.php?option=com_jem&view=event&id=1229:gros
 ses-springturnier-reit-und-fahrverein-voehl
END:VEVENT
BEGIN:VEVENT
UID:event1093@Nationalparkgemeinde Vöhl am Edersee
DTSTAMP:20260421T122938Z
CATEGORIES:Sport\, Fitness und Freizeit
DESCRIPTION:Laufcup \nKategorie: Sport\, Fitness und Freizeit\nICS-Link: ht
 tps://xn--vhl-sna.de/index.php?option=com_jem&view=event&id=1093:laufcup\n
DTSTART;VALUE=DATE:20260829
DTEND;VALUE=DATE:20260830
LOCATION:Freizeitanlage Herzhausen\,Nähe Sportplatz\,34516 Vöhl-Herzhausen
SUMMARY:Laufcup 
URL:https://xn--vhl-sna.de/index.php?option=com_jem&view=event&id=1093:lauf
 cup
END:VEVENT
BEGIN:VEVENT
UID:event1132@Nationalparkgemeinde Vöhl am Edersee
DTSTAMP:20260421T122938Z
CATEGORIES:Sport\, Fitness und Freizeit
DESCRIPTION:Ortsstraßenlauf mit Gauwandertag\nKategorie: Sport\, Fitness un
 d Freizeit\nICS-Link: https://xn--vhl-sna.de/index.php?option=com_jem&view
 =event&id=1132:ortsstrassenlauf-mit-gauwandertag\n
DTSTART;VALUE=DATE:20261003
DTEND;VALUE=DATE:20261004
LOCATION:DGH Marienhagen\,Am Sportplatz 8\,34516 Vöhl-Marienhagen
SUMMARY:Ortsstraßenlauf mit Gauwandertag
URL:https://xn--vhl-sna.de/index.php?option=com_jem&view=event&id=1132:orts
 strassenlauf-mit-gauwandertag
END:VEVENT
BEGIN:VEVENT
UID:event1306@Nationalparkgemeinde Vöhl am Edersee
DTSTAMP:20260421T122938Z
CATEGORIES:Sport\, Fitness und Freizeit
DESCRIPTION:Saisonabschluss Sportfreunde Ederbringhausen\nKategorie: Sport\
 , Fitness und Freizeit\nICS-Link: https://xn--vhl-sna.de/index.php?option=
 com_jem&view=event&id=1306:saisonabschluss-sportfreunde-ederbringhausen\n
DTSTART;VALUE=DATE:20260523
DTEND;VALUE=DATE:20260524
LOCATION:Sportplatz Ederbringhausen\,Zum Sportplatz\,34516 Ederbringhausen\
 ,Germany
SUMMARY:Saisonabschluss Sportfreunde Ederbringhausen
URL:https://xn--vhl-sna.de/index.php?option=com_jem&view=event&id=1306:sais
 onabschluss-sportfreunde-ederbringhausen
END:VEVENT
BEGIN:VEVENT
UID:event1117@Nationalparkgemeinde Vöhl am Edersee
DTSTAMP:20260421T122938Z
CATEGORIES:Sport\, Fitness und Freizeit
DESCRIPTION:Saisonabschluss Tennisclub\nKategorie: Sport\, Fitness und Frei
 zeit\nICS-Link: https://xn--vhl-sna.de/index.php?option=com_jem&view=event
 &id=1117:saisonabschluss-tennisclub\n
DTSTART;VALUE=DATE:20260927
DTEND;VALUE=DATE:20260928
LOCATION:Tennisanlage am Homberg\,34516 Vöhl
SUMMARY:Saisonabschluss Tennisclub
URL:https://xn--vhl-sna.de/index.php?option=com_jem&view=event&id=1117:sais
 onabschluss-tennisclub
END:VEVENT
BEGIN:VEVENT
UID:event1284@Nationalparkgemeinde Vöhl am Edersee
DTSTAMP:20260421T122938Z
CATEGORIES:Sport\, Fitness und Freizeit
DESCRIPTION:Saisonaufschlag Tennisclub Vöhl\nKategorie: Sport\, Fitness und
  Freizeit\nICS-Link: https://xn--vhl-sna.de/index.php?option=com_jem&view=
 event&id=1284:saisonaufschlag-tennisclub-voehl\n
DTSTART;VALUE=DATE:20260426
DTEND;VALUE=DATE:20260427
LOCATION:Tennisanlage am Homberg\,34516 Vöhl
SUMMARY:Saisonaufschlag Tennisclub Vöhl
URL:https://xn--vhl-sna.de/index.php?option=com_jem&view=event&id=1284:sais
 onaufschlag-tennisclub-voehl
END:VEVENT
BEGIN:VEVENT
UID:event1227@Nationalparkgemeinde Vöhl am Edersee
DTSTAMP:20260421T122938Z
CATEGORIES:Sport\, Fitness und Freizeit
DESCRIPTION:Sportfest TSV Vöhl\nKategorie: Sport\, Fitness und Freizeit\nIC
 S-Link: https://xn--vhl-sna.de/index.php?option=com_jem&view=event&id=1227
 :sportfest-tsv-voehl\n
DTSTART;VALUE=DATE:20260620
DTEND;VALUE=DATE:20260622
LOCATION:Sportplatz Vöhl\,Schlossstraße\,34516 Vöhl\,Germany
SUMMARY:Sportfest TSV Vöhl
URL:https://xn--vhl-sna.de/index.php?option=com_jem&view=event&id=1227:spor
 tfest-tsv-voehl
END:VEVENT
BEGIN:VEVENT
UID:event1287@Nationalparkgemeinde Vöhl am Edersee
DTSTAMP:20260421T122938Z
CATEGORIES:Sport\, Fitness und Freizeit
DESCRIPTION:Vöhler Abendlauf\nKategorie: Sport\, Fitness und Freizeit\nICS-
 Link: https://xn--vhl-sna.de/index.php?option=com_jem&view=event&id=1287:v
 oehler-abendlauf\n
DTSTART;VALUE=DATE:20260430
DTEND;VALUE=DATE:20260501
LOCATION:Sportplatz Vöhl\,Schlossstraße\,34516 Vöhl\,Germany
SUMMARY:Vöhler Abendlauf
URL:https://xn--vhl-sna.de/index.php?option=com_jem&view=event&id=1287:voeh
 ler-abendlauf
END:VEVENT
BEGIN:VEVENT
UID:event1116@Nationalparkgemeinde Vöhl am Edersee
DTSTAMP:20260421T122938Z
CATEGORIES:Sport\, Fitness und Freizeit
DESCRIPTION:WBO (Kinder-) und Dressurreiten\nKategorie: Sport\, Fitness und
  Freizeit\nICS-Link: https://xn--vhl-sna.de/index.php?option=com_jem&view=
 event&id=1116:wbo-kinder-und-dressurreiten\n
DTSTART;VALUE=DATE:20260905
DTEND;VALUE=DATE:20260907
LOCATION:Reitanlage Vöhl\,Am Reitplatz 1\,34516 Vöhl
SUMMARY:WBO (Kinder-) und Dressurreiten
URL:https://xn--vhl-sna.de/index.php?option=com_jem&view=event&id=1116:wbo-
 kinder-und-dressurreiten
END:VEVENT
BEGIN:VEVENT
UID:event1124@Nationalparkgemeinde Vöhl am Edersee
DTSTAMP:20260421T122938Z
CATEGORIES:Sport\, Fitness und Freizeit
DESCRIPTION:Wandermarathon\nKategorie: Sport\, Fitness und Freizeit\nICS-Li
 nk: https://xn--vhl-sna.de/index.php?option=com_jem&view=event&id=1124:wan
 dermarathon\n
DTSTART;VALUE=DATE:20260911
DTEND;VALUE=DATE:20260913
LOCATION:Ortsteil Vöhl
SUMMARY:Wandermarathon
URL:https://xn--vhl-sna.de/index.php?option=com_jem&view=event&id=1124:wand
 ermarathon
END:VEVENT
BEGIN:VEVENT
UID:event1221@Nationalparkgemeinde Vöhl am Edersee
DTSTAMP:20260421T122938Z
CATEGORIES:Sport\, Fitness und Freizeit
DESCRIPTION:Schulcrossmeisterschaften\nKategorie: Sport\, Fitness und Freiz
 eit\nICS-Link: https://xn--vhl-sna.de/index.php?option=com_jem&view=event&
 id=1221:schulcrossmeisterschaften\n
DTSTART:20260603T080000Z
DTEND:20260603T080000Z
LOCATION:Sportplatz Buchenberg\,Zum Sportplatz\,34516 Buchenberg\,Germany
SUMMARY:Schulcrossmeisterschaften
URL:https://xn--vhl-sna.de/index.php?option=com_jem&view=event&id=1221:schu
 lcrossmeisterschaften
END:VEVENT
BEGIN:VEVENT
UID:event1228@Nationalparkgemeinde Vöhl am Edersee
DTSTAMP:20260421T122938Z
CATEGORIES:Sport\, Fitness und Freizeit
DESCRIPTION:Fahrradtour Freizeitsportgruppe Dorfitter\nKategorie: Sport\, F
 itness und Freizeit\nICS-Link: https://xn--vhl-sna.de/index.php?option=com
 _jem&view=event&id=1228:fahrradtour-freizeitsportgruppe-dorfitter\n
DTSTART:20260621T093000Z
DTEND:20260621T093000Z
LOCATION:Ortsteil Dorfitter
SUMMARY:Fahrradtour Freizeitsportgruppe Dorfitter
URL:https://xn--vhl-sna.de/index.php?option=com_jem&view=event&id=1228:fahr
 radtour-freizeitsportgruppe-dorfitter
END:VEVENT
BEGIN:VEVENT
UID:event1096@Nationalparkgemeinde Vöhl am Edersee
DTSTAMP:20260421T122938Z
CATEGORIES:Sport\, Fitness und Freizeit
DESCRIPTION:Wanderung\nKategorie: Sport\, Fitness und Freizeit\nICS-Link: h
 ttps://xn--vhl-sna.de/index.php?option=com_jem&view=event&id=1096:wanderun
 g\n
DTSTART:20260823T093000Z
DTEND:20260823T093000Z
SUMMARY:Wanderung
URL:https://xn--vhl-sna.de/index.php?option=com_jem&view=event&id=1096:wand
 erung
END:VEVENT
BEGIN:VEVENT
UID:event1130@Nationalparkgemeinde Vöhl am Edersee
DTSTAMP:20260421T122938Z
CATEGORIES:Sport\, Fitness und Freizeit
DESCRIPTION:Herbstwanderung\nKategorie: Sport\, Fitness und Freizeit\nICS-L
 ink: https://xn--vhl-sna.de/index.php?option=com_jem&view=event&id=1130:he
 rbstwanderung\n
DTSTART:20261031T123000Z
DTEND:20261031T123000Z
LOCATION:DGH Dorfitter\,Am Hohlweg 9\,34516 Vöhl-Dorfitter
SUMMARY:Herbstwanderung
URL:https://xn--vhl-sna.de/index.php?option=com_jem&view=event&id=1130:herb
 stwanderung
END:VEVENT
BEGIN:VEVENT
UID:event1294@Nationalparkgemeinde Vöhl am Edersee
DTSTAMP:20260421T122938Z
CATEGORIES:Sport\, Fitness und Freizeit
DESCRIPTION:Fußballspiel A-Liga TSV Vöhl\nKategorie: Sport\, Fitness und Fr
 eizeit\nICS-Link: https://xn--vhl-sna.de/index.php?option=com_jem&view=eve
 nt&id=1294:fussballspiel-a-liga-tsv-voehl\n
DTSTART:20260503T150000Z
DTEND:20260503T150000Z
LOCATION:Sportplatz Vöhl\,Schlossstraße\,34516 Vöhl\,Germany
SUMMARY:Fußballspiel A-Liga TSV Vöhl
URL:https://xn--vhl-sna.de/index.php?option=com_jem&view=event&id=1294:fuss
 ballspiel-a-liga-tsv-voehl
END:VEVENT
BEGIN:VEVENT
UID:event1304@Nationalparkgemeinde Vöhl am Edersee
DTSTAMP:20260421T122938Z
CATEGORIES:Sport\, Fitness und Freizeit
DESCRIPTION:Fußballspiel A-Liga TSV Vöhl\nKategorie: Sport\, Fitness und Fr
 eizeit\nICS-Link: https://xn--vhl-sna.de/index.php?option=com_jem&view=eve
 nt&id=1304:fussballspiel-a-liga-tsv-voehl\n
DTSTART:20260517T150000Z
DTEND:20260517T150000Z
LOCATION:Sportplatz Vöhl\,Schlossstraße\,34516 Vöhl\,Germany
SUMMARY:Fußballspiel A-Liga TSV Vöhl
URL:https://xn--vhl-sna.de/index.php?option=com_jem&view=event&id=1304:fuss
 ballspiel-a-liga-tsv-voehl
END:VEVENT
BEGIN:VEVENT
UID:event1143@Nationalparkgemeinde Vöhl am Edersee
DTSTAMP:20260421T122938Z
CATEGORIES:Sport\, Fitness und Freizeit
DESCRIPTION:Bowling\nKategorie: Sport\, Fitness und Freizeit\nICS-Link: htt
 ps://xn--vhl-sna.de/index.php?option=com_jem&view=event&id=1143:bowling\n
DTSTART:20261114T160000Z
DTEND:20261114T160000Z
LOCATION:Stadt Korbach\,34497 Korbach\,Germany
SUMMARY:Bowling
URL:https://xn--vhl-sna.de/index.php?option=com_jem&view=event&id=1143:bowl
 ing
END:VEVENT
BEGIN:VEVENT
UID:event1122@Nationalparkgemeinde Vöhl am Edersee
DTSTAMP:20260421T122938Z
CATEGORIES:Sport\, Fitness und Freizeit
DESCRIPTION:Kegelabend \nKategorie: Sport\, Fitness und Freizeit\nICS-Link:
  https://xn--vhl-sna.de/index.php?option=com_jem&view=event&id=1122:kegela
 bend\n
DTSTART:20260912T180000Z
DTEND:20260912T180000Z
SUMMARY:Kegelabend 
URL:https://xn--vhl-sna.de/index.php?option=com_jem&view=event&id=1122:kege
 labend
END:VEVENT
BEGIN:VEVENT
UID:event1281@Nationalparkgemeinde Vöhl am Edersee
DTSTAMP:20260421T122938Z
CATEGORIES:Sport\, Fitness und Freizeit
DESCRIPTION:Fußballspiel A-Liga TSV Vöhl\nKategorie: Sport\, Fitness und Fr
 eizeit\nICS-Link: https://xn--vhl-sna.de/index.php?option=com_jem&view=eve
 nt&id=1281:fussballspiel-a-liga-tsv-voehl\n
DTSTART:20260422T183000Z
DTEND:20260422T183000Z
LOCATION:Sportplatz Vöhl\,Schlossstraße\,34516 Vöhl\,Germany
SUMMARY:Fußballspiel A-Liga TSV Vöhl
URL:https://xn--vhl-sna.de/index.php?option=com_jem&view=event&id=1281:fuss
 ballspiel-a-liga-tsv-voehl
END:VEVENT
BEGIN:VEVENT
UID:event1126@Nationalparkgemeinde Vöhl am Edersee
DTSTAMP:20260421T122938Z
CATEGORIES:Sport\, Fitness und Freizeit
DESCRIPTION:JHV Sportfreunde\nKategorie: Sport\, Fitness und Freizeit\nICS-
 Link: https://xn--vhl-sna.de/index.php?option=com_jem&view=event&id=1126:j
 hv-sportfreunde\n
DTSTART:20261016T200000Z
DTEND:20261016T200000Z
LOCATION:Orketalhalle Ederbringhausen\,Herzbergstraße 3\,34516 Vöhl-Ederbri
 nghausen
SUMMARY:JHV Sportfreunde
URL:https://xn--vhl-sna.de/index.php?option=com_jem&view=event&id=1126:jhv-
 sportfreunde
END:VEVENT
END:VCALENDAR