BEGIN:VCALENDAR
VERSION:2.0
PRODID:-//91.233.84.230//NONSGML kigkonsult.se iCalcreator 2.20//
CALSCALE:GREGORIAN
METHOD:PUBLISH
X-WR-TIMEZONE:UTC
BEGIN:VEVENT
UID:event1170@Nationalparkgemeinde Vöhl am Edersee
DTSTAMP:20260421T150440Z
CATEGORIES:Kindergärten
DESCRIPTION:Laternenumzug\nKategorie: Kindergärten\nICS-Link: https://xn--v
 hl-sna.de/index.php?option=com_jem&view=event&id=1170:laternenumzug\n
DTSTART;VALUE=DATE:20261111
DTEND;VALUE=DATE:20261112
LOCATION:Ortsteil Dorfitter
SUMMARY:Laternenumzug
URL:https://xn--vhl-sna.de/index.php?option=com_jem&view=event&id=1170:late
 rnenumzug
END:VEVENT
END:VCALENDAR