BEGIN:VCALENDAR
VERSION:2.0
PRODID:-//91.233.84.230//NONSGML kigkonsult.se iCalcreator 2.20//
CALSCALE:GREGORIAN
METHOD:PUBLISH
X-WR-TIMEZONE:UTC
BEGIN:VEVENT
UID:event1311@Nationalparkgemeinde Vöhl am Edersee
DTSTAMP:20260421T122431Z
CATEGORIES:Sonstige
DESCRIPTION:1. Vöhler Dorfflohmarkt\nKategorie: Sonstige\nICS-Link: https:/
 /xn--vhl-sna.de/index.php?option=com_jem&view=event&id=1311:flohmarkt\n
DTSTART;VALUE=DATE:20260531
DTEND;VALUE=DATE:20260601
LOCATION:Ortsteil Vöhl
SUMMARY:1. Vöhler Dorfflohmarkt
URL:https://xn--vhl-sna.de/index.php?option=com_jem&view=event&id=1311:floh
 markt
END:VEVENT
BEGIN:VEVENT
UID:event1101@Nationalparkgemeinde Vöhl am Edersee
DTSTAMP:20260421T122431Z
CATEGORIES:Sonstige
DESCRIPTION:25 Jahre Ederfalken\nKategorie: Sonstige\nICS-Link: https://xn-
 -vhl-sna.de/index.php?option=com_jem&view=event&id=1101:25-jahre-ederfalke
 n\n
DTSTART;VALUE=DATE:20260815
DTEND;VALUE=DATE:20260816
LOCATION:Schutzhütte Ederbringhausen\,34516 Ederbringhausen - Vöhl\,Germany
SUMMARY:25 Jahre Ederfalken
URL:https://xn--vhl-sna.de/index.php?option=com_jem&view=event&id=1101:25-j
 ahre-ederfalken
END:VEVENT
BEGIN:VEVENT
UID:event1308@Nationalparkgemeinde Vöhl am Edersee
DTSTAMP:20260421T122431Z
CATEGORIES:Sonstige
DESCRIPTION:Bugbrooke-Fahrt TSV Vöhl Jugend\nKategorie: Sonstige\nICS-Link:
  https://xn--vhl-sna.de/index.php?option=com_jem&view=event&id=1308:bugbro
 oke-fahrt-tsv-voehl-jugend\n
DTSTART;VALUE=DATE:20260524
DTEND;VALUE=DATE:20260531
LOCATION:Sportplatz Vöhl\,Schlossstraße\,34516 Vöhl\,Germany
SUMMARY:Bugbrooke-Fahrt TSV Vöhl Jugend
URL:https://xn--vhl-sna.de/index.php?option=com_jem&view=event&id=1308:bugb
 rooke-fahrt-tsv-voehl-jugend
END:VEVENT
BEGIN:VEVENT
UID:event1297@Nationalparkgemeinde Vöhl am Edersee
DTSTAMP:20260421T122431Z
CATEGORIES:Sonstige
DESCRIPTION:Muttertagsbrunch (mit Anmeldung)\nKategorie: Sonstige\nICS-Link
 : https://xn--vhl-sna.de/index.php?option=com_jem&view=event&id=1297:mutte
 rtagsbrunch-mit-anmeldung\n
DTSTART;VALUE=DATE:20260510
DTEND;VALUE=DATE:20260511
LOCATION:Orketalhalle Ederbringhausen\,Herzbergstraße 3\,34516 Vöhl-Ederbri
 nghausen
SUMMARY:Muttertagsbrunch (mit Anmeldung)
URL:https://xn--vhl-sna.de/index.php?option=com_jem&view=event&id=1297:mutt
 ertagsbrunch-mit-anmeldung
END:VEVENT
BEGIN:VEVENT
UID:event1309@Nationalparkgemeinde Vöhl am Edersee
DTSTAMP:20260421T122431Z
CATEGORIES:Sonstige
DESCRIPTION:Wochenendfahrt Damengymnastik Ederbringhausen\nKategorie: Sonst
 ige\nICS-Link: https://xn--vhl-sna.de/index.php?option=com_jem&view=event&
 id=1309:wochenendfahrt-damengymnastik-ederbringhausen\n
DTSTART;VALUE=DATE:20260529
DTEND;VALUE=DATE:20260601
LOCATION:Ortsteil Ederbringhausen
SUMMARY:Wochenendfahrt Damengymnastik Ederbringhausen
URL:https://xn--vhl-sna.de/index.php?option=com_jem&view=event&id=1309:woch
 enendfahrt-damengymnastik-ederbringhausen
END:VEVENT
BEGIN:VEVENT
UID:event1095@Nationalparkgemeinde Vöhl am Edersee
DTSTAMP:20260421T122431Z
CATEGORIES:Sonstige
DESCRIPTION:Grenzbegang \nKategorie: Sonstige\nICS-Link: https://xn--vhl-sn
 a.de/index.php?option=com_jem&view=event&id=1095:grenzbegang\n
DTSTART:20260823T090000Z
DTEND:20260823T090000Z
LOCATION:DGH Obernburg\,Wilhelmstraße 3\,34516 Vöhl-Obernburg
SUMMARY:Grenzbegang 
URL:https://xn--vhl-sna.de/index.php?option=com_jem&view=event&id=1095:gren
 zbegang
END:VEVENT
BEGIN:VEVENT
UID:event1291@Nationalparkgemeinde Vöhl am Edersee
DTSTAMP:20260421T122431Z
CATEGORIES:Sonstige
DESCRIPTION:Maiwanderung mit Dorffrühstück\nKategorie: Sonstige\nICS-Link: 
 https://xn--vhl-sna.de/index.php?option=com_jem&view=event&id=1291:maiwand
 erung-mit-dorffruehstueck\n
DTSTART:20260501T100000Z
DTEND:20260501T100000Z
LOCATION:DGH Marienhagen\,Am Sportplatz 8\,34516 Vöhl-Marienhagen
SUMMARY:Maiwanderung mit Dorffrühstück
URL:https://xn--vhl-sna.de/index.php?option=com_jem&view=event&id=1291:maiw
 anderung-mit-dorffruehstueck
END:VEVENT
BEGIN:VEVENT
UID:event1310@Nationalparkgemeinde Vöhl am Edersee
DTSTAMP:20260421T122431Z
CATEGORIES:Sonstige
DESCRIPTION:Baderöffnung & 25 Jahre Förderverein\nKategorie: Sonstige\nICS-
 Link: https://xn--vhl-sna.de/index.php?option=com_jem&view=event&id=1310:b
 aderoeffnung-25-jahre-foerderverein\n
DTSTART:20260530T140000Z
DTEND:20260530T140000Z
LOCATION:Freibad Marienhagen\,Am Hagen\,34516 Vöhl-Marienhagen
SUMMARY:Baderöffnung & 25 Jahre Förderverein
URL:https://xn--vhl-sna.de/index.php?option=com_jem&view=event&id=1310:bade
 roeffnung-25-jahre-foerderverein
END:VEVENT
BEGIN:VEVENT
UID:event1286@Nationalparkgemeinde Vöhl am Edersee
DTSTAMP:20260421T122431Z
CATEGORIES:Sonstige
DESCRIPTION:Dämmerschoppen\nKategorie: Sonstige\nICS-Link: https://xn--vhl-
 sna.de/index.php?option=com_jem&view=event&id=1286:daemmerschoppen\n
DTSTART:20260430T190000Z
DTEND:20260430T190000Z
LOCATION:Nickesfrase\,34516 Vöhl-Obernburg\,Germany
SUMMARY:Dämmerschoppen
URL:https://xn--vhl-sna.de/index.php?option=com_jem&view=event&id=1286:daem
 merschoppen
END:VEVENT
BEGIN:VEVENT
UID:event1135@Nationalparkgemeinde Vöhl am Edersee
DTSTAMP:20260421T122431Z
CATEGORIES:Sonstige
DESCRIPTION:Terminkalenderbesprechung DO\nKategorie: Sonstige\nICS-Link: ht
 tps://xn--vhl-sna.de/index.php?option=com_jem&view=event&id=1135:terminkal
 enderbesprechung-do\n
DTSTART:20261104T191500Z
DTEND:20261104T191500Z
LOCATION:DGH Dorfitter\,Am Hohlweg 9\,34516 Vöhl-Dorfitter
SUMMARY:Terminkalenderbesprechung DO
URL:https://xn--vhl-sna.de/index.php?option=com_jem&view=event&id=1135:term
 inkalenderbesprechung-do
END:VEVENT
BEGIN:VEVENT
UID:event1141@Nationalparkgemeinde Vöhl am Edersee
DTSTAMP:20260421T122431Z
CATEGORIES:Sonstige
DESCRIPTION:Jagdgenossenschaftsversammlung\nKategorie: Sonstige\nICS-Link: 
 https://xn--vhl-sna.de/index.php?option=com_jem&view=event&id=1141:jagdgen
 ossenschaftsversammlung\n
DTSTART:20261112T200000Z
DTEND:20261112T200000Z
LOCATION:Emmas Kaffeescheune\,34516 Obernburg - Vöhl\,Germany
SUMMARY:Jagdgenossenschaftsversammlung
URL:https://xn--vhl-sna.de/index.php?option=com_jem&view=event&id=1141:jagd
 genossenschaftsversammlung
END:VEVENT
END:VCALENDAR